{"text_format":"1","workbook":"xlsx","n_sheets":12,"sheets":["Services-Produits","Reference","Patients","Samuel Bob","Muhamad Mardiono","ref","Herman Herry Adranacus","Salim Lan Jaya Liem","Adex Yudiswan","Sri Wahyuswinta","Armand Wahyudi Hartono","Feuil2"],"not_rendered":{"charts":0,"images":4,"macros":1,"external_links":0,"defined_names":0,"comments":0,"pivot_tables":0},"unopened":[],"bounds":{"document_bytes":16777216,"sheet_cells":100000,"rows_first":2000,"rows_last":500,"rows_between":2000,"halvings":0,"cell_chars":16384,"cell_head_chars":4096},"cells_cut":0,"cells_raw":0,"read":"whole","date_system":"1900"}

{"sheet":"Services-Produits","index":0,"n_rows":86,"n_cols":2,"rows_kept":86,"cut":false,"hidden":false,"merged":[]}
["Produit","Price"]
["Bactoflor",69.8]
["Biotin",37.25]
["Biotin + NaCl",37.25]
["B-Kompleks",46.8]
["Black cumin capsules",34.799999999999997]
["Bosvene Akba",215.11]
["Cholin Inject",43]
["C-Intercell 650 mg Vitamin C, 90 Kapseln",27.99]
["Curcumin + NaCl 0,9%",116.22]
["Curcumin 150 mg",229.2]
["curcumin 75 mg",116.22]
["E-Inject",41.2]
["Epinativ Injection",133.61000000000001]
["Face treatment Chin contouring",600]
["Fermanose",46.2]
["Fiber-Intercell",40.49]
["Gut Microbiome Therapy",6912.5]
["Gynophilus",19.8]
["Gynophylus",19.8]
["Hepar",43.7]
["Hydroxiprolin",68.900000000000006]
["Hypericin",198.7]
["Immunocare",220]
["Immunocare, personalised",195.7]
["Infraorbital",600]
["Infusion: Curcumin 75 mg",116.22]
["Infusion: Nicotiamide",179.8]
["Infusion: Shoga Öl",670]
["Jantung (Herz)",584.5]
["K2 & D3",34.700000000000003]
["Kantong kemih (Harnblase)",381.35]
["Laetia",45.3]
["Liserotota",345.3]
["Liv 52",14.9]
["Magentropfen",23]
["Magnesium",25.45]
["Magnesium 1000 mg",34.68]
["Magnesium Intercell",15.1]
["Memoserin 90 Kapseln",67.7]
["Microbiome body lotion",29.9]
["Microcare 4 months",571.04999999999995]
["Microniome face serum",69.900000000000006]
["Muskulatur (Otot)",286.39999999999998]
["NAD+",219.66]
["Neuro Amino",163.19999999999999]
["Nicotinamide",179.8]
["NMN, Rapamune, Sildenafil & Tadalafil",67.8]
["Oliphenolia",183.51]
["Oliphenolia + NaCl 0,9% 150 ml",183.51]
["Omega 7",81.349999999999994]
["Otak kecil (Kleinhirn)",288]
["Ozempic",129.80000000000001]
["Phenylalanine",106.4]
["Phospolipide",31.28]
["Prodigest",72.349999999999994]
["Q10 i.v. sensitive",178.8]
["Reservatrol + NaCl 0,9% 300 ml",178]
["Resveratrol",178]
["Riboflavin",127.4]
["RNA",516.70000000000005]
["RNA Heart",516.70000000000005]
["RNA Injections 4 vials",516.70000000000005]
["RNA Thymus",516.70000000000005]
["Salvans",13.05]
["Selenium",41.6]
["Senolytics mixture",670]
["Senolytics Mixture",670]
["Spermidin",182.35]
["Tadalafil-Mepha 10 mg",115]
["Tadalafil-Mepha 2.5 mg",115]
["Tadalafil-Mepha 5 mg",115]
["Tamsulosin Retard",59.58]
["Testicle ",372.45]
["Thymus",516.70000000000005]
["Ventrisana",19.2]
["Vistabel 3 zones",750]
["Vit D3",37]
["Vit D3",29.8]
["Vit E Inject I.M."]
["Vit, B Komplex",46.8]
["Vit. C, Zn",21.4]
["Vit. E IM"]
["Vit-C Intercell",27.99]
["Xanax",42.7]
["Zentra inject",60]

{"sheet":"Reference","index":1,"n_rows":38,"n_cols":4,"rows_kept":38,"cut":false,"hidden":false,"merged":[]}
[]
[]
["Invoice: 55H-0231104"]
["                  22.12.2023"]
[null,null,"Treatment by"]
[null,null,"Dr. Roger Gmür"]
[null,null,"Zürich"]
[]
[]
[]
[]
[]
[]
["Description","Qty","Price","Amount"]
[]
[]
["Gut Microbiome Therapy",4,{"$f":"IFERROR(VLOOKUP(A17,'Services-Produits'!A$2:B124,2,FALSE),\"\")","v":6912.5},{"$f":"IFERROR(B17*C17,\"\")","v":27650}]
["Vit D3",1,{"$f":"IFERROR(VLOOKUP(A18,'Services-Produits'!A$2:B125,2,FALSE),\"\")","v":37},{"$f":"IFERROR(B18*C18,\"\")","v":37}]
["Bactoflor",1,{"$f":"IFERROR(VLOOKUP(A19,'Services-Produits'!A$2:B126,2,FALSE),\"\")","v":69.8},69.8]
["E-Inject",1,{"$f":"IFERROR(VLOOKUP(A20,'Services-Produits'!A$2:B127,2,FALSE),\"\")","v":41.2},41.2]
["Neuro Amino",8,{"$f":"IFERROR(VLOOKUP(A21,'Services-Produits'!A$2:B128,2,FALSE),\"\")","v":163.19999999999999},1305.5999999999999]
["Vit, B Komplex",1,{"$f":"IFERROR(VLOOKUP(A22,'Services-Produits'!A$2:B129,2,FALSE),\"\")","v":46.8},46.8]
["Fermanose",2,{"$f":"IFERROR(VLOOKUP(A23,'Services-Produits'!A$2:B130,2,FALSE),\"\")","v":46.2},92.4]
["Hydroxiprolin",1,{"$f":"IFERROR(VLOOKUP(A24,'Services-Produits'!A$2:B131,2,FALSE),\"\")","v":68.900000000000006},68.900000000000006]
["Gynophilus",1,{"$f":"IFERROR(VLOOKUP(A25,'Services-Produits'!A$2:B132,2,FALSE),\"\")","v":19.8},19.8]
["Magentropfen",1,{"$f":"IFERROR(VLOOKUP(A26,'Services-Produits'!A$2:B133,2,FALSE),\"\")","v":23},23]
["Magnesium 1000 mg",1,{"$f":"IFERROR(VLOOKUP(A27,'Services-Produits'!A$2:B134,2,FALSE),\"\")","v":34.68},34.68]
["Q10 i.v. sensitive",5,{"$f":"IFERROR(VLOOKUP(A28,'Services-Produits'!A$2:B135,2,FALSE),\"\")","v":178.8},894]
["Resveratrol",8,{"$f":"IFERROR(VLOOKUP(A29,'Services-Produits'!A$2:B136,2,FALSE),\"\")","v":178},1424]
[null,null,{"$f":"IFERROR(VLOOKUP(A30,'Services-Produits'!A$2:B138,2,FALSE),\"\")","v":""},""]
[null,null,{"$f":"IFERROR(VLOOKUP(A31,'Services-Produits'!A$2:B139,2,FALSE),\"\")","v":""},""]
[null,null,{"$f":"IFERROR(VLOOKUP(A32,'Services-Produits'!A$2:B139,2,FALSE),\"\")","v":""},""]
[null,null,{"$f":"IFERROR(VLOOKUP(A33,'Services-Produits'!A$2:B140,2,FALSE),\"\")","v":""},""]
[null,null,{"$f":"IFERROR(VLOOKUP(A34,'Services-Produits'!A$2:B141,2,FALSE),\"\")","v":""},""]
[null,null,{"$f":"IFERROR(VLOOKUP(A35,'Services-Produits'!A$2:B142,2,FALSE),\"\")","v":""},""]
[null,null,{"$f":"IFERROR(VLOOKUP(A36,'Services-Produits'!A$2:B143,2,FALSE),\"\")","v":""},""]
[]
["Total in CHF",null,null,{"$f":"SUM(D17:D37)","v":31707.18}]

{"sheet":"Patients","index":2,"n_rows":23,"n_cols":7,"rows_kept":23,"cut":false,"hidden":false,"merged":[]}
["Wisnu Hermawan",null,null,"Jakarta","Indonesia","M","1972-02-16"]
["Yuldi Yusman",null,null,"Jakarta","Indonesia","M","1975-07-29"]
["Erminda Melayeni",null,null,"Jakarta","Indonesia","F","1975-10-25"]
["Agus Andriyanto",null,null,"Jakarta","Indonesia","M","1967-02-16"]
["Evy Celiyanti",null,null,"Jakarta","Indonesia","F","1972-03-07"]
["Samuel Bob",null,null,"Jakarta","Indonesia","M","1974-01-04"]
["Muljadi Tjahjono",null,null,"Jakarta","Indonesia","M","1965-07-22"]
["Wahyu Widada",null,null,"Jakarta","Indonesia","M","1969-09-11"]
["Sri Wahyuswinta",null,null,"Jakarta","Indonesia","F","1969-04-04"]
["Adex Yudiswan",null,null,"Jakarta","Indonesia","M","1974-12-03"]
["Herman Herry Adranacus",null,null,"Jakarta","Indonesia","M","1962-11-26"]
["Muhamad Mardiono",null,null,"Jakarta","Indonesia","M","1957-07-11"]
["Armand Wahyudi Hartono",null,null,"Jakarta","Indonesia","M","1975-05-20"]
["Deddy Prasetyo",null,null,"Jakarta","Indonesia","M","1968-07-26"]
["Martha Dwi Maryani",null,null,"Jakarta","Indonesia","F","1969-05-21"]
["Dobias Iskandar",null,null,"Jakarta","Indonesia","M","1965-11-16"]
["Yenny Wijaya",null,null,"Jakarta","Indonesia","F","1973-03-16"]
["Samuel Rusli",null,null,"Jakarta","Indonesia","M","1968-04-01"]
["Yulia Gunawan",null,null,"Jakarta","Indonesia","F","1983-01-06"]
["Salim Lan Jaya Liem",null,null,"Jakarta","Indonesia","M","1971-06-01"]
["Chan Choi Moi",null,null,"Jakarta","Indonesia","F","1972-04-28"]
["Tan Kim Siong",null,null,"Jakarta","Indonesia","M","1970-11-09"]
["Tan Siew Chang",null,null,"Jakarta","Indonesia","F","1967-01-13"]

{"sheet":"Samuel Bob","index":3,"n_rows":38,"n_cols":4,"rows_kept":38,"cut":false,"hidden":false,"merged":[]}
[]
[]
["Invoice: 55H-0231104"]
["                  22.12.2023"]
[null,null,"Treatment by"]
[null,null,"Dr. Roger Gmür"]
[null,null,"Zürich"]
[]
["Mr. Samuel Bob"]
["Jakarta"]
["Indonesia"]
[]
[]
["Description","Qty","Price","Amount"]
["Patient: Samuel Bob, M, 04.01.1974"]
[]
["Gut Microbiome Therapy",4,{"$f":"IFERROR(VLOOKUP(A17,'Services-Produits'!A$2:B124,2,FALSE),\"\")","v":6912.5},{"$f":"IFERROR(B17*C17,\"\")","v":27650}]
["Vit D3",1,{"$f":"IFERROR(VLOOKUP(A18,'Services-Produits'!A$2:B125,2,FALSE),\"\")","v":37},{"$f":"IFERROR(B18*C18,\"\")","v":37}]
["Bactoflor",1,{"$f":"IFERROR(VLOOKUP(A19,'Services-Produits'!A$2:B126,2,FALSE),\"\")","v":69.8},69.8]
["E-Inject",1,{"$f":"IFERROR(VLOOKUP(A20,'Services-Produits'!A$2:B127,2,FALSE),\"\")","v":41.2},41.2]
["Neuro Amino",8,{"$f":"IFERROR(VLOOKUP(A21,'Services-Produits'!A$2:B128,2,FALSE),\"\")","v":163.19999999999999},1305.5999999999999]
["Vit, B Komplex",1,{"$f":"IFERROR(VLOOKUP(A22,'Services-Produits'!A$2:B129,2,FALSE),\"\")","v":46.8},46.8]
["Fermanose",2,{"$f":"IFERROR(VLOOKUP(A23,'Services-Produits'!A$2:B130,2,FALSE),\"\")","v":46.2},92.4]
["Hydroxiprolin",1,{"$f":"IFERROR(VLOOKUP(A24,'Services-Produits'!A$2:B131,2,FALSE),\"\")","v":68.900000000000006},68.900000000000006]
["Gynophilus",1,{"$f":"IFERROR(VLOOKUP(A25,'Services-Produits'!A$2:B132,2,FALSE),\"\")","v":19.8},19.8]
["Magentropfen",1,{"$f":"IFERROR(VLOOKUP(A26,'Services-Produits'!A$2:B133,2,FALSE),\"\")","v":23},23]
["Magnesium 1000 mg",1,{"$f":"IFERROR(VLOOKUP(A27,'Services-Produits'!A$2:B134,2,FALSE),\"\")","v":34.68},34.68]
["Q10 i.v. sensitive",5,{"$f":"IFERROR(VLOOKUP(A28,'Services-Produits'!A$2:B135,2,FALSE),\"\")","v":178.8},894]
["Resveratrol",8,{"$f":"IFERROR(VLOOKUP(A29,'Services-Produits'!A$2:B136,2,FALSE),\"\")","v":178},1424]
[null,null,{"$f":"IFERROR(VLOOKUP(A30,'Services-Produits'!A$2:B138,2,FALSE),\"\")","v":""},""]
[null,null,{"$f":"IFERROR(VLOOKUP(A31,'Services-Produits'!A$2:B139,2,FALSE),\"\")","v":""},""]
[null,null,{"$f":"IFERROR(VLOOKUP(A32,'Services-Produits'!A$2:B139,2,FALSE),\"\")","v":""},""]
[null,null,{"$f":"IFERROR(VLOOKUP(A33,'Services-Produits'!A$2:B140,2,FALSE),\"\")","v":""},""]
[null,null,{"$f":"IFERROR(VLOOKUP(A34,'Services-Produits'!A$2:B141,2,FALSE),\"\")","v":""},""]
[null,null,{"$f":"IFERROR(VLOOKUP(A35,'Services-Produits'!A$2:B142,2,FALSE),\"\")","v":""},""]
[null,null,{"$f":"IFERROR(VLOOKUP(A36,'Services-Produits'!A$2:B143,2,FALSE),\"\")","v":""},""]
[]
["Total in CHF",null,null,{"$f":"SUM(D17:D37)","v":31707.18}]

{"sheet":"Muhamad Mardiono","index":4,"n_rows":38,"n_cols":4,"rows_kept":38,"cut":false,"hidden":false,"merged":[]}
[]
[]
["Invoice: 55H-0231104"]
["                  22.12.2023"]
[null,null,"Treatment by"]
[null,null,"Dr. Roger Gmür"]
[null,null,"Zürich"]
[]
["Mr. Muhamad Mardiono"]
["Jakarta"]
["Indonesia"]
[]
[]
["Description","Qty","Price","Amount"]
["Patient: Muhamad Mardiono, M, 11.07.1957"]
[]
["Gut Microbiome Therapy",4,{"$f":"IFERROR(VLOOKUP(A17,'Services-Produits'!A$2:B124,2,FALSE),\"\")","v":6912.5},{"$f":"IFERROR(B17*C17,\"\")","v":27650}]
["Vit D3",1,{"$f":"IFERROR(VLOOKUP(A18,'Services-Produits'!A$2:B125,2,FALSE),\"\")","v":37},{"$f":"IFERROR(B18*C18,\"\")","v":37}]
["Bactoflor",1,{"$f":"IFERROR(VLOOKUP(A19,'Services-Produits'!A$2:B126,2,FALSE),\"\")","v":69.8},69.8]
["E-Inject",1,{"$f":"IFERROR(VLOOKUP(A20,'Services-Produits'!A$2:B127,2,FALSE),\"\")","v":41.2},41.2]
["Neuro Amino",8,{"$f":"IFERROR(VLOOKUP(A21,'Services-Produits'!A$2:B128,2,FALSE),\"\")","v":163.19999999999999},1305.5999999999999]
["Vit, B Komplex",1,{"$f":"IFERROR(VLOOKUP(A22,'Services-Produits'!A$2:B129,2,FALSE),\"\")","v":46.8},46.8]
["Fermanose",2,{"$f":"IFERROR(VLOOKUP(A23,'Services-Produits'!A$2:B130,2,FALSE),\"\")","v":46.2},92.4]
["Hydroxiprolin",1,{"$f":"IFERROR(VLOOKUP(A24,'Services-Produits'!A$2:B131,2,FALSE),\"\")","v":68.900000000000006},68.900000000000006]
["Gynophilus",1,{"$f":"IFERROR(VLOOKUP(A25,'Services-Produits'!A$2:B132,2,FALSE),\"\")","v":19.8},19.8]
["Magentropfen",1,{"$f":"IFERROR(VLOOKUP(A26,'Services-Produits'!A$2:B133,2,FALSE),\"\")","v":23},23]
["Magnesium 1000 mg",1,{"$f":"IFERROR(VLOOKUP(A27,'Services-Produits'!A$2:B134,2,FALSE),\"\")","v":34.68},34.68]
["Q10 i.v. sensitive",5,{"$f":"IFERROR(VLOOKUP(A28,'Services-Produits'!A$2:B135,2,FALSE),\"\")","v":178.8},894]
["Resveratrol",8,{"$f":"IFERROR(VLOOKUP(A29,'Services-Produits'!A$2:B136,2,FALSE),\"\")","v":178},1424]
[null,null,{"$f":"IFERROR(VLOOKUP(A30,'Services-Produits'!A$2:B138,2,FALSE),\"\")","v":""},""]
[null,null,{"$f":"IFERROR(VLOOKUP(A31,'Services-Produits'!A$2:B139,2,FALSE),\"\")","v":""},""]
[null,null,{"$f":"IFERROR(VLOOKUP(A32,'Services-Produits'!A$2:B139,2,FALSE),\"\")","v":""},""]
[null,null,{"$f":"IFERROR(VLOOKUP(A33,'Services-Produits'!A$2:B140,2,FALSE),\"\")","v":""},""]
[null,null,{"$f":"IFERROR(VLOOKUP(A34,'Services-Produits'!A$2:B141,2,FALSE),\"\")","v":""},""]
[null,null,{"$f":"IFERROR(VLOOKUP(A35,'Services-Produits'!A$2:B142,2,FALSE),\"\")","v":""},""]
[null,null,{"$f":"IFERROR(VLOOKUP(A36,'Services-Produits'!A$2:B143,2,FALSE),\"\")","v":""},""]
[]
["Total in CHF",null,null,{"$f":"SUM(D17:D37)","v":31707.18}]

{"sheet":"ref","index":5,"n_rows":38,"n_cols":4,"rows_kept":38,"cut":false,"hidden":false,"merged":[]}
[]
[]
["Invoice: 55H-0231104"]
["                  22.12.2023"]
[null,null,"Treatment by"]
[null,null,"Dr. Roger Gmür"]
[null,null,"Zürich"]
[]
["Mr. Herman Herry Adranacus"]
["Jakarta"]
["Indonesia"]
[]
[]
["Description","Qty","Price","Amount"]
["Patient: Herman Herry Adranacus, M, 26.11.1962"]
[]
["Gut Microbiome Therapy",4,{"$f":"IFERROR(VLOOKUP(A17,'Services-Produits'!A$2:B124,2,FALSE),\"\")","v":6912.5},{"$f":"IFERROR(B17*C17,\"\")","v":27650}]
["Vit D3",1,{"$f":"IFERROR(VLOOKUP(A18,'Services-Produits'!A$2:B125,2,FALSE),\"\")","v":37},{"$f":"IFERROR(B18*C18,\"\")","v":37}]
["Bactoflor",1,{"$f":"IFERROR(VLOOKUP(A19,'Services-Produits'!A$2:B126,2,FALSE),\"\")","v":69.8},69.8]
["E-Inject",1,{"$f":"IFERROR(VLOOKUP(A20,'Services-Produits'!A$2:B127,2,FALSE),\"\")","v":41.2},41.2]
["Neuro Amino",8,{"$f":"IFERROR(VLOOKUP(A21,'Services-Produits'!A$2:B128,2,FALSE),\"\")","v":163.19999999999999},1305.5999999999999]
["Vit, B Komplex",1,{"$f":"IFERROR(VLOOKUP(A22,'Services-Produits'!A$2:B129,2,FALSE),\"\")","v":46.8},46.8]
["Fermanose",2,{"$f":"IFERROR(VLOOKUP(A23,'Services-Produits'!A$2:B130,2,FALSE),\"\")","v":46.2},92.4]
["Hydroxiprolin",1,{"$f":"IFERROR(VLOOKUP(A24,'Services-Produits'!A$2:B131,2,FALSE),\"\")","v":68.900000000000006},68.900000000000006]
["Gynophilus",1,{"$f":"IFERROR(VLOOKUP(A25,'Services-Produits'!A$2:B132,2,FALSE),\"\")","v":19.8},19.8]
["Magentropfen",1,{"$f":"IFERROR(VLOOKUP(A26,'Services-Produits'!A$2:B133,2,FALSE),\"\")","v":23},23]
["Magnesium 1000 mg",1,{"$f":"IFERROR(VLOOKUP(A27,'Services-Produits'!A$2:B134,2,FALSE),\"\")","v":34.68},34.68]
["Q10 i.v. sensitive",5,{"$f":"IFERROR(VLOOKUP(A28,'Services-Produits'!A$2:B135,2,FALSE),\"\")","v":178.8},894]
["Resveratrol",8,{"$f":"IFERROR(VLOOKUP(A29,'Services-Produits'!A$2:B136,2,FALSE),\"\")","v":178},1424]
[null,null,{"$f":"IFERROR(VLOOKUP(A30,'Services-Produits'!A$2:B138,2,FALSE),\"\")","v":""},""]
[null,null,{"$f":"IFERROR(VLOOKUP(A31,'Services-Produits'!A$2:B139,2,FALSE),\"\")","v":""},""]
[null,null,{"$f":"IFERROR(VLOOKUP(A32,'Services-Produits'!A$2:B139,2,FALSE),\"\")","v":""},""]
[null,null,{"$f":"IFERROR(VLOOKUP(A33,'Services-Produits'!A$2:B140,2,FALSE),\"\")","v":""},""]
[null,null,{"$f":"IFERROR(VLOOKUP(A34,'Services-Produits'!A$2:B141,2,FALSE),\"\")","v":""},""]
[null,null,{"$f":"IFERROR(VLOOKUP(A35,'Services-Produits'!A$2:B142,2,FALSE),\"\")","v":""},""]
[null,null,{"$f":"IFERROR(VLOOKUP(A36,'Services-Produits'!A$2:B143,2,FALSE),\"\")","v":""},""]
[]
["Total in CHF",null,null,{"$f":"SUM(D17:D37)","v":31707.18}]

{"sheet":"Herman Herry Adranacus","index":6,"n_rows":38,"n_cols":4,"rows_kept":38,"cut":false,"hidden":false,"merged":[]}
[]
[]
["Invoice: 55H-0231104"]
["                  22.12.2023"]
[null,null,"Treatment by"]
[null,null,"Dr. Roger Gmür"]
[null,null,"Zürich"]
[]
["Mr. Herman Herry Adranacus"]
["Jakarta"]
["Indonesia"]
[]
[]
["Description","Qty","Price","Amount"]
["Patient: Herman Herry Adranacus, M, 26.11.1962"]
[]
["Gut Microbiome Therapy",4,{"$f":"IFERROR(VLOOKUP(A17,'Services-Produits'!A$2:B124,2,FALSE),\"\")","v":6912.5},{"$f":"IFERROR(B17*C17,\"\")","v":27650}]
["Vit D3",1,{"$f":"IFERROR(VLOOKUP(A18,'Services-Produits'!A$2:B125,2,FALSE),\"\")","v":37},{"$f":"IFERROR(B18*C18,\"\")","v":37}]
["Bactoflor",1,{"$f":"IFERROR(VLOOKUP(A19,'Services-Produits'!A$2:B126,2,FALSE),\"\")","v":69.8},69.8]
["E-Inject",1,{"$f":"IFERROR(VLOOKUP(A20,'Services-Produits'!A$2:B127,2,FALSE),\"\")","v":41.2},41.2]
["Neuro Amino",8,{"$f":"IFERROR(VLOOKUP(A21,'Services-Produits'!A$2:B128,2,FALSE),\"\")","v":163.19999999999999},1305.5999999999999]
["Vit, B Komplex",1,{"$f":"IFERROR(VLOOKUP(A22,'Services-Produits'!A$2:B129,2,FALSE),\"\")","v":46.8},46.8]
["Fermanose",2,{"$f":"IFERROR(VLOOKUP(A23,'Services-Produits'!A$2:B130,2,FALSE),\"\")","v":46.2},92.4]
["Hydroxiprolin",1,{"$f":"IFERROR(VLOOKUP(A24,'Services-Produits'!A$2:B131,2,FALSE),\"\")","v":68.900000000000006},68.900000000000006]
["Gynophilus",1,{"$f":"IFERROR(VLOOKUP(A25,'Services-Produits'!A$2:B132,2,FALSE),\"\")","v":19.8},19.8]
["Magentropfen",1,{"$f":"IFERROR(VLOOKUP(A26,'Services-Produits'!A$2:B133,2,FALSE),\"\")","v":23},23]
["Magnesium 1000 mg",1,{"$f":"IFERROR(VLOOKUP(A27,'Services-Produits'!A$2:B134,2,FALSE),\"\")","v":34.68},34.68]
["Q10 i.v. sensitive",5,{"$f":"IFERROR(VLOOKUP(A28,'Services-Produits'!A$2:B135,2,FALSE),\"\")","v":178.8},894]
["Resveratrol",8,{"$f":"IFERROR(VLOOKUP(A29,'Services-Produits'!A$2:B136,2,FALSE),\"\")","v":178},1424]
["Ventrisana",4,{"$f":"IFERROR(VLOOKUP(A30,'Services-Produits'!A$2:B138,2,FALSE),\"\")","v":19.2},76.8]
[null,null,{"$f":"IFERROR(VLOOKUP(A31,'Services-Produits'!A$2:B139,2,FALSE),\"\")","v":""},""]
[null,null,{"$f":"IFERROR(VLOOKUP(A32,'Services-Produits'!A$2:B139,2,FALSE),\"\")","v":""},""]
[null,null,{"$f":"IFERROR(VLOOKUP(A33,'Services-Produits'!A$2:B140,2,FALSE),\"\")","v":""},""]
[null,null,{"$f":"IFERROR(VLOOKUP(A34,'Services-Produits'!A$2:B141,2,FALSE),\"\")","v":""},""]
[null,null,{"$f":"IFERROR(VLOOKUP(A35,'Services-Produits'!A$2:B142,2,FALSE),\"\")","v":""},""]
[null,null,{"$f":"IFERROR(VLOOKUP(A36,'Services-Produits'!A$2:B143,2,FALSE),\"\")","v":""},""]
[]
["Total in CHF",null,null,{"$f":"SUM(D17:D37)","v":31783.98}]

{"sheet":"Salim Lan Jaya Liem","index":7,"n_rows":38,"n_cols":4,"rows_kept":38,"cut":false,"hidden":false,"merged":[]}
[]
[]
["Invoice: 55H-0231104"]
[{"$f":"\"                  12.12.2023\"","v":"                  12.12.2023"}]
[null,null,"Treatment by"]
[null,null,"Dr. Roger Gmür"]
[null,null,"Zürich"]
[]
["Mr. Salim Lan Jaya Liem"]
["Jakarta"]
["Indonesia"]
[]
[]
["Description","Qty","Price","Amount"]
["Patient: Salim Lan Jaya Liem, M, 01.06.1971"]
[]
["Gut Microbiome Therapy",4,{"$f":"IFERROR(VLOOKUP(A17,'Services-Produits'!A$2:B124,2,FALSE),\"\")","v":6912.5},{"$f":"IFERROR(B17*C17,\"\")","v":27650}]
["Vit D3",1,{"$f":"IFERROR(VLOOKUP(A18,'Services-Produits'!A$2:B125,2,FALSE),\"\")","v":37},{"$f":"IFERROR(B18*C18,\"\")","v":37}]
["Bactoflor",1,{"$f":"IFERROR(VLOOKUP(A19,'Services-Produits'!A$2:B126,2,FALSE),\"\")","v":69.8},69.8]
["E-Inject",1,{"$f":"IFERROR(VLOOKUP(A20,'Services-Produits'!A$2:B127,2,FALSE),\"\")","v":41.2},41.2]
["Neuro Amino",8,{"$f":"IFERROR(VLOOKUP(A21,'Services-Produits'!A$2:B128,2,FALSE),\"\")","v":163.19999999999999},1305.5999999999999]
["Vit, B Komplex",1,{"$f":"IFERROR(VLOOKUP(A22,'Services-Produits'!A$2:B129,2,FALSE),\"\")","v":46.8},46.8]
["Fermanose",2,{"$f":"IFERROR(VLOOKUP(A23,'Services-Produits'!A$2:B130,2,FALSE),\"\")","v":46.2},92.4]
["Hydroxiprolin",1,{"$f":"IFERROR(VLOOKUP(A24,'Services-Produits'!A$2:B131,2,FALSE),\"\")","v":68.900000000000006},68.900000000000006]
["Gynophilus",1,{"$f":"IFERROR(VLOOKUP(A25,'Services-Produits'!A$2:B132,2,FALSE),\"\")","v":19.8},19.8]
["Magentropfen",1,{"$f":"IFERROR(VLOOKUP(A26,'Services-Produits'!A$2:B133,2,FALSE),\"\")","v":23},23]
["Magnesium 1000 mg",1,{"$f":"IFERROR(VLOOKUP(A27,'Services-Produits'!A$2:B134,2,FALSE),\"\")","v":34.68},34.68]
["Q10 i.v. sensitive",5,{"$f":"IFERROR(VLOOKUP(A28,'Services-Produits'!A$2:B135,2,FALSE),\"\")","v":178.8},894]
["Resveratrol",8,{"$f":"IFERROR(VLOOKUP(A29,'Services-Produits'!A$2:B136,2,FALSE),\"\")","v":178},1424]
["Vistabel 3 zones",3,{"$f":"IFERROR(VLOOKUP(A30,'Services-Produits'!A$2:B138,2,FALSE),\"\")","v":750},2250]
["Vistabel 3 zones",4,{"$f":"IFERROR(VLOOKUP(A31,'Services-Produits'!A$2:B139,2,FALSE),\"\")","v":750},3000]
["Xanax",null,{"$f":"IFERROR(VLOOKUP(A32,'Services-Produits'!A$2:B139,2,FALSE),\"\")","v":42.7},0]
["Vit. C, Zn",null,{"$f":"IFERROR(VLOOKUP(A33,'Services-Produits'!A$2:B140,2,FALSE),\"\")","v":21.4},0]
[null,null,{"$f":"IFERROR(VLOOKUP(A34,'Services-Produits'!A$2:B141,2,FALSE),\"\")","v":""},""]
[null,null,{"$f":"IFERROR(VLOOKUP(A35,'Services-Produits'!A$2:B142,2,FALSE),\"\")","v":""},""]
[null,null,{"$f":"IFERROR(VLOOKUP(A36,'Services-Produits'!A$2:B143,2,FALSE),\"\")","v":""},""]
[]
["Total in CHF",null,null,{"$f":"SUM(D17:D37)","v":36957.18}]

{"sheet":"Adex Yudiswan","index":8,"n_rows":38,"n_cols":4,"rows_kept":38,"cut":false,"hidden":false,"merged":[]}
[]
[]
["Invoice: 55H-0231104"]
[{"$f":"\"                  12.12.2023\"","v":"                  12.12.2023"}]
[null,null,"Treatment by"]
[null,null,"Dr. Roger Gmür"]
[null,null,"Zürich"]
[]
["Mr. Adex Yudiswan"]
["Jakarta"]
["Indonesia"]
[]
[]
["Description","Qty","Price","Amount"]
["Patient: Adex Yudiswan, M, 03.12.1974"]
[]
["Gut Microbiome Therapy",4,{"$f":"IFERROR(VLOOKUP(A17,'Services-Produits'!A$2:B124,2,FALSE),\"\")","v":6912.5},{"$f":"IFERROR(B17*C17,\"\")","v":27650}]
["Vit D3",1,{"$f":"IFERROR(VLOOKUP(A18,'Services-Produits'!A$2:B125,2,FALSE),\"\")","v":37},{"$f":"IFERROR(B18*C18,\"\")","v":37}]
["Bactoflor",1,{"$f":"IFERROR(VLOOKUP(A19,'Services-Produits'!A$2:B126,2,FALSE),\"\")","v":69.8},69.8]
["E-Inject",1,{"$f":"IFERROR(VLOOKUP(A20,'Services-Produits'!A$2:B127,2,FALSE),\"\")","v":41.2},41.2]
["Neuro Amino",8,{"$f":"IFERROR(VLOOKUP(A21,'Services-Produits'!A$2:B128,2,FALSE),\"\")","v":163.19999999999999},1305.5999999999999]
["Vit, B Komplex",1,{"$f":"IFERROR(VLOOKUP(A22,'Services-Produits'!A$2:B129,2,FALSE),\"\")","v":46.8},46.8]
["Fermanose",2,{"$f":"IFERROR(VLOOKUP(A23,'Services-Produits'!A$2:B130,2,FALSE),\"\")","v":46.2},92.4]
["Hydroxiprolin",1,{"$f":"IFERROR(VLOOKUP(A24,'Services-Produits'!A$2:B131,2,FALSE),\"\")","v":68.900000000000006},68.900000000000006]
["Gynophilus",1,{"$f":"IFERROR(VLOOKUP(A25,'Services-Produits'!A$2:B132,2,FALSE),\"\")","v":19.8},19.8]
["Magentropfen",1,{"$f":"IFERROR(VLOOKUP(A26,'Services-Produits'!A$2:B133,2,FALSE),\"\")","v":23},23]
["Magnesium 1000 mg",1,{"$f":"IFERROR(VLOOKUP(A27,'Services-Produits'!A$2:B134,2,FALSE),\"\")","v":34.68},34.68]
["Q10 i.v. sensitive",5,{"$f":"IFERROR(VLOOKUP(A28,'Services-Produits'!A$2:B135,2,FALSE),\"\")","v":178.8},894]
["Resveratrol",8,{"$f":"IFERROR(VLOOKUP(A29,'Services-Produits'!A$2:B136,2,FALSE),\"\")","v":178},1424]
["Infraorbital",1,{"$f":"IFERROR(VLOOKUP(A30,'Services-Produits'!A$2:B137,2,FALSE),\"\")","v":600},600]
[null,null,{"$f":"IFERROR(VLOOKUP(A31,'Services-Produits'!A$2:B138,2,FALSE),\"\")","v":""},""]
[null,null,{"$f":"IFERROR(VLOOKUP(#REF!,'Services-Produits'!A$2:B139,2,FALSE),\"\")","v":""},""]
[null,null,{"$f":"IFERROR(VLOOKUP(A32,'Services-Produits'!A$2:B140,2,FALSE),\"\")","v":""},""]
[null,null,{"$f":"IFERROR(VLOOKUP(A34,'Services-Produits'!A$2:B141,2,FALSE),\"\")","v":""},""]
[null,null,{"$f":"IFERROR(VLOOKUP(A35,'Services-Produits'!A$2:B142,2,FALSE),\"\")","v":""},""]
[null,null,{"$f":"IFERROR(VLOOKUP(A36,'Services-Produits'!A$2:B143,2,FALSE),\"\")","v":""},""]
[]
["Total in CHF",null,null,{"$f":"SUM(D17:D37)","v":32307.18}]

{"sheet":"Sri Wahyuswinta","index":9,"n_rows":40,"n_cols":4,"rows_kept":40,"cut":false,"hidden":false,"merged":[]}
[]
[]
["Invoice: 55H-0231104"]
[{"$f":"\"                  12.12.2023\"","v":"                  12.12.2023"}]
[null,null,"Treatment by"]
[null,null,"Dr. Roger Gmür"]
[null,null,"Zürich"]
[]
["Mrs. Sri Wahyuswinta"]
["Jakarta"]
["Indonesia"]
[]
[]
["Description","Qty","Price","Amount"]
["Patient: Mrs. Sri Wahyuswinta, F, 04.04.1969"]
[]
["Gut Microbiome Therapy",4,{"$f":"IFERROR(VLOOKUP(A17,'Services-Produits'!A1:B120,2,FALSE),\"\")","v":6912.5},{"$f":"IFERROR(B17*C17,\"\")","v":27650}]
["Vit D3",1,{"$f":"IFERROR(VLOOKUP(A18,'Services-Produits'!A2:B121,2,FALSE),\"\")","v":37},{"$f":"IFERROR(B18*C18,\"\")","v":37}]
["Biotin",1,{"$f":"IFERROR(VLOOKUP(A19,'Services-Produits'!A3:B122,2,FALSE),\"\")","v":37.25},37.25]
["E-Inject",1,{"$f":"IFERROR(VLOOKUP(A20,'Services-Produits'!A4:B123,2,FALSE),\"\")","v":41.2},41.2]
["Neuro Amino",8,{"$f":"IFERROR(VLOOKUP(A21,'Services-Produits'!A5:B124,2,FALSE),\"\")","v":163.19999999999999},1305.5999999999999]
["Vit, B Komplex",1,{"$f":"IFERROR(VLOOKUP(A22,'Services-Produits'!A6:B125,2,FALSE),\"\")","v":46.8},46.8]
["Fermanose",2,{"$f":"IFERROR(VLOOKUP(A23,'Services-Produits'!A7:B126,2,FALSE),\"\")","v":46.2},92.4]
["Hydroxiprolin",1,{"$f":"IFERROR(VLOOKUP(A24,'Services-Produits'!A8:B127,2,FALSE),\"\")","v":68.900000000000006},68.900000000000006]
["Gynophilus",1,{"$f":"IFERROR(VLOOKUP(A25,'Services-Produits'!A9:B128,2,FALSE),\"\")","v":19.8},19.8]
["Magentropfen",1,{"$f":"IFERROR(VLOOKUP(A26,'Services-Produits'!A10:B129,2,FALSE),\"\")","v":23},23]
["Magnesium 1000 mg",1,{"$f":"IFERROR(VLOOKUP(A27,'Services-Produits'!A11:B130,2,FALSE),\"\")","v":34.68},34.68]
["Q10 i.v. sensitive",5,{"$f":"IFERROR(VLOOKUP(A28,'Services-Produits'!A12:B131,2,FALSE),\"\")","v":178.8},894]
["Resveratrol",8,{"$f":"IFERROR(VLOOKUP(A29,'Services-Produits'!A13:B132,2,FALSE),\"\")","v":178},1424]
["Selenium",2,{"$f":"IFERROR(VLOOKUP(A30,'Services-Produits'!A14:B133,2,FALSE),\"\")","v":41.6},83.2]
["Infusion: Shoga Öl",11,{"$f":"IFERROR(VLOOKUP(A31,'Services-Produits'!A8:B127,2,FALSE),\"\")","v":670},7370]
["Tadalafil-Mepha 2.5 mg",6,{"$f":"IFERROR(VLOOKUP(A32,'Services-Produits'!A9:B128,2,FALSE),\"\")","v":115},690]
["Ventrisana",1,{"$f":"IFERROR(VLOOKUP(A33,'Services-Produits'!A10:B129,2,FALSE),\"\")","v":19.2},19.2]
["Xanax",1,{"$f":"IFERROR(VLOOKUP(A34,'Services-Produits'!A11:B130,2,FALSE),\"\")","v":42.7},42.7]
["Vistabel 3 zones",5,{"$f":"IFERROR(VLOOKUP(A35,'Services-Produits'!A12:B131,2,FALSE),\"\")","v":750},3750]
["Jantung (Herz)",3,{"$f":"IFERROR(VLOOKUP(A36,'Services-Produits'!A13:B132,2,FALSE),\"\")","v":584.5},1753.5]
[null,null,{"$f":"IFERROR(VLOOKUP(A37,'Services-Produits'!A14:B133,2,FALSE),\"\")","v":""}]
["Total in CHF",null,null,{"$f":"SUM(D17:D37)","v":45383.229999999996}]
[]
["Thank you very much for your trust!"]

{"sheet":"Armand Wahyudi Hartono","index":10,"n_rows":40,"n_cols":4,"rows_kept":40,"cut":false,"hidden":false,"merged":[]}
[]
[]
["Invoice: 55H-0231104"]
[{"$f":"\"                  12.12.2023\"","v":"                  12.12.2023"}]
[null,null,"Treatment by"]
[null,null,"Dr. Roger Gmür"]
[null,null,"Zürich"]
[]
[]
[]
[]
[]
[]
["Description","Qty","Price","Amount"]
[]
[]
["Gut Microbiome Therapy",4,{"$f":"IFERROR(VLOOKUP(A17,'Services-Produits'!A1:B120,2,FALSE),\"\")","v":6912.5},{"$f":"IFERROR(B17*C17,\"\")","v":27650}]
["Vit D3",1,{"$f":"IFERROR(VLOOKUP(A18,'Services-Produits'!A2:B121,2,FALSE),\"\")","v":37},{"$f":"IFERROR(B18*C18,\"\")","v":37}]
["Biotin",1,{"$f":"IFERROR(VLOOKUP(A19,'Services-Produits'!A3:B122,2,FALSE),\"\")","v":37.25},37.25]
["E-Inject",1,{"$f":"IFERROR(VLOOKUP(A20,'Services-Produits'!A4:B123,2,FALSE),\"\")","v":41.2},41.2]
["Neuro Amino",8,{"$f":"IFERROR(VLOOKUP(A21,'Services-Produits'!A5:B124,2,FALSE),\"\")","v":163.19999999999999},1305.5999999999999]
["Vit, B Komplex",1,{"$f":"IFERROR(VLOOKUP(A22,'Services-Produits'!A6:B125,2,FALSE),\"\")","v":46.8},46.8]
["Fermanose",2,{"$f":"IFERROR(VLOOKUP(A23,'Services-Produits'!A7:B126,2,FALSE),\"\")","v":46.2},92.4]
["Gynophilus",1,{"$f":"IFERROR(VLOOKUP(#REF!,'Services-Produits'!A8:B127,2,FALSE),\"\")","v":""},{"$f":"IFERROR(#REF!*C24,\"\")","v":""}]
["Magentropfen",1,{"$f":"IFERROR(VLOOKUP(A24,'Services-Produits'!A9:B128,2,FALSE),\"\")","v":19.8},{"$f":"IFERROR(B24*C25,\"\")","v":19.8}]
["Magnesium 1000 mg",1,{"$f":"IFERROR(VLOOKUP(A25,'Services-Produits'!A10:B129,2,FALSE),\"\")","v":23},{"$f":"IFERROR(B25*C26,\"\")","v":23}]
[null,null,{"$f":"IFERROR(VLOOKUP(A26,'Services-Produits'!A11:B130,2,FALSE),\"\")","v":34.68},{"$f":"IFERROR(B26*C27,\"\")","v":34.68}]
["Q10 i.v. sensitive",5,{"$f":"IFERROR(VLOOKUP(A28,'Services-Produits'!A12:B131,2,FALSE),\"\")","v":178.8},894]
["Resveratrol",8,{"$f":"IFERROR(VLOOKUP(A29,'Services-Produits'!A13:B132,2,FALSE),\"\")","v":178},1424]
["Phenylalanine",4,{"$f":"IFERROR(VLOOKUP(A30,'Services-Produits'!A14:B133,2,FALSE),\"\")","v":106.4},425.6]
["RNA",2,{"$f":"IFERROR(VLOOKUP(A31,'Services-Produits'!A8:B127,2,FALSE),\"\")","v":516.70000000000005},1033.4000000000001]
["Vit, B Komplex",5,{"$f":"IFERROR(VLOOKUP(A32,'Services-Produits'!A9:B128,2,FALSE),\"\")","v":46.8},234]
[null,null,{"$f":"IFERROR(VLOOKUP(A33,'Services-Produits'!A10:B129,2,FALSE),\"\")","v":""},""]
[null,null,{"$f":"IFERROR(VLOOKUP(A34,'Services-Produits'!A11:B130,2,FALSE),\"\")","v":""},""]
[null,null,{"$f":"IFERROR(VLOOKUP(A35,'Services-Produits'!A12:B131,2,FALSE),\"\")","v":""},""]
[null,null,{"$f":"IFERROR(VLOOKUP(A36,'Services-Produits'!A13:B132,2,FALSE),\"\")","v":""},""]
[null,null,{"$f":"IFERROR(VLOOKUP(A37,'Services-Produits'!A14:B133,2,FALSE),\"\")","v":""}]
["Total in CHF",null,null,{"$f":"SUM(D17:D37)","v":33298.729999999996}]
[]
["Thank you very much for your trust!"]

{"sheet":"Feuil2","index":11,"n_rows":0,"n_cols":0,"rows_kept":0,"cut":false,"hidden":false,"merged":[]}