{"text_format":"1","workbook":"xlsx","n_sheets":29,"sheets":["Refund Invoice","Ahnar Magenda1","Mrs. Yenni Rista","Sambodo Purnomo","Ahnar Magenda","Rizal","Aboe Bakar","Ita Yuliati","Agung Yadha Adhi Nuqraha","Bridjen Pol Tonny Hermawan","Wisnu Soehardono","Dobias Iskandar","Peter Pramana","Herman Herry Adranacus","Thiha Aung","Adex Yudiswan","Muljadi Tjahjono","Herly Julianti","Invoices 18.11.24","Vino","Aboe Bakar-1","Agus Andriyanto","Erlin Diyanto Hong","Aqung Yadha Adhi Nuqraha","ReferenceSBL","Services-Produits","Reference","Patients","Reference2p"],"not_rendered":{"charts":0,"images":6,"macros":1,"external_links":0,"defined_names":3,"comments":0,"pivot_tables":0},"unopened":[],"bounds":{"document_bytes":16777216,"sheet_cells":100000,"rows_first":2000,"rows_last":500,"rows_between":2000,"halvings":0,"cell_chars":16384,"cell_head_chars":4096},"cells_cut":0,"cells_raw":0,"read":"whole","date_system":"1900"}

{"sheet":"Refund Invoice","index":0,"n_rows":40,"n_cols":4,"rows_kept":40,"cut":false,"hidden":false,"merged":[]}
[]
[]
["Refund Invoice"]
["2024-12-10"]
[]
[]
[]
[]
[]
[]
[]
[]
[]
["Description","Qty","Price","Amount"]
[]
[]
["DCA",16,{"$f":"IFERROR(VLOOKUP(A17,'Services-Produits'!$A$1:$B$2000,2,FALSE),\"\")","v":57},{"$f":"IFERROR(B17*C17,\"\")","v":912}]
["Artesunat",8,{"$f":"IFERROR(VLOOKUP(A18,'Services-Produits'!$A$1:$B$2000,2,FALSE),\"\")","v":67.2},{"$f":"IFERROR(B18*C18,\"\")","v":537.6}]
["Curcumin 75 mg",9,{"$f":"IFERROR(VLOOKUP(A19,'Services-Produits'!$A$1:$B$2000,2,FALSE),\"\")","v":116.22},1045.98]
["Cerebrolysin 10 ml",3,{"$f":"IFERROR(VLOOKUP(A20,'Services-Produits'!$A$1:$B$2000,2,FALSE),\"\")","v":99.6},298.79999999999995]
["Antioxidant Mix",1,{"$f":"IFERROR(VLOOKUP(A21,'Services-Produits'!$A$1:$B$2000,2,FALSE),\"\")","v":410},410]
["Gedächtnis Infusion",2,{"$f":"IFERROR(VLOOKUP(A22,'Services-Produits'!$A$1:$B$2000,2,FALSE),\"\")","v":378},756]
[]
[null,null,{"$f":"IFERROR(VLOOKUP(A24,'Services-Produits'!$A$1:$B$2000,2,FALSE),\"\")","v":""},""]
[null,null,{"$f":"IFERROR(VLOOKUP(A25,'Services-Produits'!$A$1:$B$2000,2,FALSE),\"\")","v":""},""]
[null,null,{"$f":"IFERROR(VLOOKUP(A26,'Services-Produits'!$A$1:$B$2000,2,FALSE),\"\")","v":""},""]
[null,null,{"$f":"IFERROR(VLOOKUP(A27,'Services-Produits'!$A$1:$B$2000,2,FALSE),\"\")","v":""},""]
[null,null,{"$f":"IFERROR(VLOOKUP(A28,'Services-Produits'!$A$1:$B$2000,2,FALSE),\"\")","v":""},""]
[null,null,{"$f":"IFERROR(VLOOKUP(A29,'Services-Produits'!$A$1:$B$2000,2,FALSE),\"\")","v":""},""]
[null,null,{"$f":"IFERROR(VLOOKUP(A30,'Services-Produits'!$A$1:$B$2000,2,FALSE),\"\")","v":""},""]
[null,null,{"$f":"IFERROR(VLOOKUP(A31,'Services-Produits'!$A$1:$B$2000,2,FALSE),\"\")","v":""},""]
[null,null,{"$f":"IFERROR(VLOOKUP(A32,'Services-Produits'!$A$1:$B$2000,2,FALSE),\"\")","v":""},""]
[null,null,{"$f":"IFERROR(VLOOKUP(A33,'Services-Produits'!$A$1:$B$2000,2,FALSE),\"\")","v":""},""]
[null,null,{"$f":"IFERROR(VLOOKUP(A34,'Services-Produits'!$A$1:$B$2000,2,FALSE),\"\")","v":""},""]
[null,null,{"$f":"IFERROR(VLOOKUP(A35,'Services-Produits'!$A$1:$B$2000,2,FALSE),\"\")","v":""},""]
[null,null,{"$f":"IFERROR(VLOOKUP(A36,'Services-Produits'!$A$1:$B$2000,2,FALSE),\"\")","v":""},""]
[null,null,{"$f":"IFERROR(VLOOKUP(A37,'Services-Produits'!$A$1:$B$2000,2,FALSE),\"\")","v":""},""]
["Total refund in CHF",null,null,{"$f":"SUM(D17:D37)","v":3960.38}]
[]
["Thank you very much for your trust!"]

{"sheet":"Ahnar Magenda1","index":1,"n_rows":42,"n_cols":4,"rows_kept":42,"cut":false,"hidden":false,"merged":[]}
[]
[]
["Invoice: 55H-02411-GM19"]
["                  18.11.2024"]
[]
[]
[]
[]
[]
["Mr. Ahnar Magenda"]
["Jakarta"]
["Indonesia"]
[]
["Description","Qty","Price","Amount"]
[]
["Dr. Markus Paetz - Hirschlanden Hospital",null,627.4,627.4]
["Courrier Bern - Zürich",null,280,280]
["Medications",null,{"$f":"IFERROR(VLOOKUP(A18,'Services-Produits'!$A$1:$B$2000,2,FALSE),\"\")","v":""},{"$f":"IFERROR(B18*C18,\"\")","v":""}]
["Xanax 2 mg",7,{"$f":"IFERROR(VLOOKUP(A19,'Services-Produits'!$A$1:$B$2000,2,FALSE),\"\")","v":42.75},299.25]
["Prostagutt Uno",1,{"$f":"IFERROR(VLOOKUP(A20,'Services-Produits'!$A$1:$B$2000,2,FALSE),\"\")","v":49.9},49.9]
["Lian Therapeut",null,{"$f":"IFERROR(VLOOKUP(A21,'Services-Produits'!$A$1:$B$2000,2,FALSE),\"\")","v":""},""]
["Supplement",1,{"$f":"IFERROR(VLOOKUP(A22,'Services-Produits'!$A$1:$B$2000,2,FALSE),\"\")","v":162.72},162.72]
["Complemedis",1,{"$f":"IFERROR(VLOOKUP(A23,'Services-Produits'!$A$1:$B$2000,2,FALSE),\"\")","v":74.2},74.2]
[null,null,{"$f":"IFERROR(VLOOKUP(A24,'Services-Produits'!$A$1:$B$2000,2,FALSE),\"\")","v":""},""]
[null,null,{"$f":"IFERROR(VLOOKUP(A25,'Services-Produits'!$A$1:$B$2000,2,FALSE),\"\")","v":""},""]
[null,null,{"$f":"IFERROR(VLOOKUP(A26,'Services-Produits'!$A$1:$B$2000,2,FALSE),\"\")","v":""},""]
[null,null,{"$f":"IFERROR(VLOOKUP(A27,'Services-Produits'!$A$1:$B$2000,2,FALSE),\"\")","v":""},""]
[null,null,{"$f":"IFERROR(VLOOKUP(A28,'Services-Produits'!$A$1:$B$2000,2,FALSE),\"\")","v":""},""]
[null,null,{"$f":"IFERROR(VLOOKUP(A29,'Services-Produits'!$A$1:$B$2000,2,FALSE),\"\")","v":""},""]
[null,null,{"$f":"IFERROR(VLOOKUP(A30,'Services-Produits'!$A$1:$B$2000,2,FALSE),\"\")","v":""},""]
[null,null,{"$f":"IFERROR(VLOOKUP(A31,'Services-Produits'!$A$1:$B$2000,2,FALSE),\"\")","v":""},""]
[null,null,{"$f":"IFERROR(VLOOKUP(A32,'Services-Produits'!$A$1:$B$2000,2,FALSE),\"\")","v":""},""]
[null,null,{"$f":"IFERROR(VLOOKUP(A33,'Services-Produits'!$A$1:$B$2000,2,FALSE),\"\")","v":""},""]
[null,null,{"$f":"IFERROR(VLOOKUP(A34,'Services-Produits'!$A$1:$B$2000,2,FALSE),\"\")","v":""},""]
[]
[null,null,{"$f":"IFERROR(VLOOKUP(A36,'Services-Produits'!$A$1:$B$2000,2,FALSE),\"\")","v":""},""]
[]
[null,null,{"$f":"IFERROR(VLOOKUP(A38,'Services-Produits'!$A$1:$B$2000,2,FALSE),\"\")","v":""},""]
[]
["Total in CHF",null,null,{"$f":"SUM(D16:D39)","v":1493.4700000000003}]
[]
["Thank you very much for your trust!"]

{"sheet":"Mrs. Yenni Rista","index":2,"n_rows":28,"n_cols":4,"rows_kept":28,"cut":false,"hidden":false,"merged":[]}
[]
[]
["Invoice: 55H-02305-GM01"]
["                  24.05.2023"]
[]
[]
[]
[]
[]
["Mrs. Yenni Rista"]
["Jakarta"]
["Indonesia"]
[]
["Description","Qty","Price","Amount"]
["Patient: Yenni Rista, F, 18.07.1958"]
[]
["Gut Microbiome 4 transplants",1,{"$f":"IFERROR(VLOOKUP(A17,'Services-Produits'!$A$1:$B$2000,2,FALSE),\"\")","v":28799},{"$f":"IFERROR(B17*C17,\"\")","v":28799}]
["Mitochondrien Infusion",2,195.27,{"$f":"IFERROR(B18*C18,\"\")","v":390.54}]
[null,null,{"$f":"IFERROR(VLOOKUP(A19,'Services-Produits'!$A$1:$B$2000,2,FALSE),\"\")","v":""},""]
[null,null,{"$f":"IFERROR(VLOOKUP(A20,'Services-Produits'!$A$1:$B$2000,2,FALSE),\"\")","v":""},""]
[null,null,{"$f":"IFERROR(VLOOKUP(A21,'Services-Produits'!$A$1:$B$2000,2,FALSE),\"\")","v":""},""]
[null,null,{"$f":"IFERROR(VLOOKUP(A22,'Services-Produits'!$A$1:$B$2000,2,FALSE),\"\")","v":""},""]
[null,null,{"$f":"IFERROR(VLOOKUP(A23,'Services-Produits'!$A$1:$B$2000,2,FALSE),\"\")","v":""},""]
[null,null,{"$f":"IFERROR(VLOOKUP(A24,'Services-Produits'!$A$1:$B$2000,2,FALSE),\"\")","v":""},""]
[null,null,{"$f":"IFERROR(VLOOKUP(A25,'Services-Produits'!$A$1:$B$2000,2,FALSE),\"\")","v":""},""]
["Total in CHF",null,null,{"$f":"SUM(D17:D25)","v":29189.54}]
[]
["Thank you very much for your trust!"]

{"sheet":"Sambodo Purnomo","index":3,"n_rows":40,"n_cols":4,"rows_kept":40,"cut":false,"hidden":false,"merged":[]}
[]
[]
["Invoice: 55H-02420-GM01"]
["                  20.12.2024"]
[]
[]
[]
[]
["Mr. Sambodo Purnomo"]
["Jakarta"]
["Indonesia"]
[]
[]
["Description","Qty","Price","Amount"]
["Patient: Sambodo Purnomo, M, 03.07.1973"]
[]
["Gedächtnis Infusion",2,{"$f":"IFERROR(VLOOKUP(A17,'Services-Produits'!$A$1:$B$2000,2,FALSE),\"\")","v":378},{"$f":"IFERROR(B17*C17,\"\")","v":756}]
["Curcumin 75 mg",5,{"$f":"IFERROR(VLOOKUP(A18,'Services-Produits'!$A$1:$B$2000,2,FALSE),\"\")","v":116.22},{"$f":"IFERROR(B18*C18,\"\")","v":581.1}]
[null,null,{"$f":"IFERROR(VLOOKUP(A19,'Services-Produits'!$A$1:$B$2000,2,FALSE),\"\")","v":""},""]
[null,null,{"$f":"IFERROR(VLOOKUP(A20,'Services-Produits'!$A$1:$B$2000,2,FALSE),\"\")","v":""},""]
[null,null,{"$f":"IFERROR(VLOOKUP(A21,'Services-Produits'!$A$1:$B$2000,2,FALSE),\"\")","v":""},""]
[null,null,{"$f":"IFERROR(VLOOKUP(A22,'Services-Produits'!$A$1:$B$2000,2,FALSE),\"\")","v":""},""]
[null,null,{"$f":"IFERROR(VLOOKUP(A23,'Services-Produits'!$A$1:$B$2000,2,FALSE),\"\")","v":""},""]
[null,null,{"$f":"IFERROR(VLOOKUP(A24,'Services-Produits'!$A$1:$B$2000,2,FALSE),\"\")","v":""},""]
[null,null,{"$f":"IFERROR(VLOOKUP(A25,'Services-Produits'!$A$1:$B$2000,2,FALSE),\"\")","v":""},""]
[null,null,{"$f":"IFERROR(VLOOKUP(A26,'Services-Produits'!$A$1:$B$2000,2,FALSE),\"\")","v":""},""]
[null,null,{"$f":"IFERROR(VLOOKUP(A27,'Services-Produits'!$A$1:$B$2000,2,FALSE),\"\")","v":""},""]
[null,null,{"$f":"IFERROR(VLOOKUP(A28,'Services-Produits'!$A$1:$B$2000,2,FALSE),\"\")","v":""},""]
[null,null,{"$f":"IFERROR(VLOOKUP(A29,'Services-Produits'!$A$1:$B$2000,2,FALSE),\"\")","v":""},""]
[null,null,{"$f":"IFERROR(VLOOKUP(A30,'Services-Produits'!$A$1:$B$2000,2,FALSE),\"\")","v":""},""]
[null,null,{"$f":"IFERROR(VLOOKUP(A31,'Services-Produits'!$A$1:$B$2000,2,FALSE),\"\")","v":""},""]
[null,null,{"$f":"IFERROR(VLOOKUP(A32,'Services-Produits'!$A$1:$B$2000,2,FALSE),\"\")","v":""},""]
[null,null,{"$f":"IFERROR(VLOOKUP(A33,'Services-Produits'!$A$1:$B$2000,2,FALSE),\"\")","v":""},""]
[null,null,{"$f":"IFERROR(VLOOKUP(A34,'Services-Produits'!$A$1:$B$2000,2,FALSE),\"\")","v":""},""]
[null,null,{"$f":"IFERROR(VLOOKUP(A35,'Services-Produits'!$A$1:$B$2000,2,FALSE),\"\")","v":""},""]
[null,null,{"$f":"IFERROR(VLOOKUP(A36,'Services-Produits'!$A$1:$B$2000,2,FALSE),\"\")","v":""},""]
[null,null,{"$f":"IFERROR(VLOOKUP(A37,'Services-Produits'!$A$1:$B$2000,2,FALSE),\"\")","v":""},""]
["Total in CHF",null,null,{"$f":"SUM(D17:D37)","v":1337.1}]
[]
["Thank you very much for your trust!"]

{"sheet":"Ahnar Magenda","index":4,"n_rows":42,"n_cols":4,"rows_kept":42,"cut":false,"hidden":false,"merged":[]}
[]
[]
["Invoice: 55H-02411-GM17"]
["                  18.11.2024"]
[]
[]
[]
[]
[]
["Mr. Ahnar Magenda"]
["Jakarta"]
["Indonesia"]
[]
["Description","Qty","Price","Amount"]
["Immun Akut",7,{"$f":"IFERROR(VLOOKUP(A15,'Services-Produits'!$A$1:$B$2000,2,FALSE),\"\")","v":66.25},{"$f":"IFERROR(B15*C15,\"\")","v":463.75}]
["C-Intercell 650 mg Vitamin C, 90 Kapseln",8,{"$f":"IFERROR(VLOOKUP(A16,'Services-Produits'!$A$1:$B$2000,2,FALSE),\"\")","v":27.99},{"$f":"IFERROR(B16*C16,\"\")","v":223.92}]
["Omega 3",7,{"$f":"IFERROR(VLOOKUP(A17,'Services-Produits'!$A$1:$B$2000,2,FALSE),\"\")","v":58.3},408.09999999999997]
["Sulgan",1,{"$f":"IFERROR(VLOOKUP(A18,'Services-Produits'!$A$1:$B$2000,2,FALSE),\"\")","v":26.7},26.7]
["Omnibiotic",5,{"$f":"IFERROR(VLOOKUP(A19,'Services-Produits'!$A$1:$B$2000,2,FALSE),\"\")","v":57.6},288]
["Microcare personalised",5,{"$f":"IFERROR(VLOOKUP(A20,'Services-Produits'!$A$1:$B$2000,2,FALSE),\"\")","v":799.4},3997]
["Dr. Markus Puetz 29.05.24 - 31.05.24",1,{"$f":"IFERROR(VLOOKUP(A21,'Services-Produits'!$A$1:$B$2000,2,FALSE),\"\")","v":505.7},505.7]
["Dr. Roger Gmuer 20.09.24",1,{"$f":"IFERROR(VLOOKUP(A22,'Services-Produits'!$A$1:$B$2000,2,FALSE),\"\")","v":965.55},965.55]
["SSCells Biotech released - 8 Syringes",1,{"$f":"IFERROR(VLOOKUP(A23,'Services-Produits'!$A$1:$B$2000,2,FALSE),\"\")","v":9748},9748]
["Wegovy 0.25 mg",16,{"$f":"IFERROR(VLOOKUP(A24,'Services-Produits'!$A$1:$B$2000,2,FALSE),\"\")","v":178.95},2863.2]
["Xanax 2 mg",2,{"$f":"IFERROR(VLOOKUP(A25,'Services-Produits'!$A$1:$B$2000,2,FALSE),\"\")","v":42.75},85.5]
["Xanax 2 mg retard",2,{"$f":"IFERROR(VLOOKUP(A26,'Services-Produits'!$A$1:$B$2000,2,FALSE),\"\")","v":51.75},103.5]
["USZ"]
["Genetik test",1,{"$f":"IFERROR(VLOOKUP(A28,'Services-Produits'!$A$1:$B$2000,2,FALSE),\"\")","v":2686.5},2686.5]
["USZ"]
["Gynecology treatment 30.05.24 - 17.06.24",1,{"$f":"IFERROR(VLOOKUP(A30,'Services-Produits'!$A$1:$B$2000,2,FALSE),\"\")","v":1972.15},1972.15]
["Dr. Markus Puetz - Hisrchlanden Hospital",null,627.4,627.4]
["Courrier Bern - Zürich",null,280,280]
["Medications:",null,{"$f":"IFERROR(VLOOKUP(A33,'Services-Produits'!$A$1:$B$2000,2,FALSE),\"\")","v":""},""]
["Xanax 2 mg 30 tablets",7,{"$f":"IFERROR(VLOOKUP(A34,'Services-Produits'!$A$1:$B$2000,2,FALSE),\"\")","v":25.25},176.75]
["Prostagutt Uno",1,{"$f":"IFERROR(VLOOKUP(A35,'Services-Produits'!$A$1:$B$2000,2,FALSE),\"\")","v":49.9},49.9]
["Lian Therapeut",null,{"$f":"IFERROR(VLOOKUP(A36,'Services-Produits'!$A$1:$B$2000,2,FALSE),\"\")","v":""},""]
["Supplement",1,{"$f":"IFERROR(VLOOKUP(A37,'Services-Produits'!$A$1:$B$2000,2,FALSE),\"\")","v":162.72},162.72]
["Complemedis",1,{"$f":"IFERROR(VLOOKUP(A38,'Services-Produits'!$A$1:$B$2000,2,FALSE),\"\")","v":74.2},74.2]
[null,null,{"$f":"IFERROR(VLOOKUP(A39,'Services-Produits'!$A$1:$B$2000,2,FALSE),\"\")","v":""},""]
["Total in CHF",null,null,{"$f":"SUM(D15:D39)","v":25708.540000000008}]
[]
["Thank you very much for your trust!"]

{"sheet":"Rizal","index":5,"n_rows":40,"n_cols":4,"rows_kept":40,"cut":false,"hidden":false,"merged":[]}
[]
[]
["Invoice: 55H-02412-GM02"]
["                  05.12.2024"]
[]
[]
[]
[]
["Mr. Rizal"]
["Jakarta"]
["Indonesia"]
[]
[]
["Description","Qty","Price","Amount"]
["Patient: Rizal, M"]
[]
["Antioxidant Mix",1,{"$f":"IFERROR(VLOOKUP(A17,'Services-Produits'!$A$1:$B$2000,2,FALSE),\"\")","v":410},{"$f":"IFERROR(B17*C17,\"\")","v":410}]
["DCA",3,{"$f":"IFERROR(VLOOKUP(A18,'Services-Produits'!$A$1:$B$2000,2,FALSE),\"\")","v":57},{"$f":"IFERROR(B18*C18,\"\")","v":171}]
["Biotin",1,{"$f":"IFERROR(VLOOKUP(A19,'Services-Produits'!$A$1:$B$2000,2,FALSE),\"\")","v":37.25},37.25]
["Selenase",1,{"$f":"IFERROR(VLOOKUP(A20,'Services-Produits'!$A$1:$B$2000,2,FALSE),\"\")","v":175},175]
["Vitarubine",1,{"$f":"IFERROR(VLOOKUP(A21,'Services-Produits'!$A$1:$B$2000,2,FALSE),\"\")","v":25.5},25.5]
["Vit C Streuli",1,{"$f":"IFERROR(VLOOKUP(A22,'Services-Produits'!$A$1:$B$2000,2,FALSE),\"\")","v":30.4},30.4]
[null,null,{"$f":"IFERROR(VLOOKUP(A23,'Services-Produits'!$A$1:$B$2000,2,FALSE),\"\")","v":""},""]
[null,null,{"$f":"IFERROR(VLOOKUP(A24,'Services-Produits'!$A$1:$B$2000,2,FALSE),\"\")","v":""},""]
[null,null,{"$f":"IFERROR(VLOOKUP(A25,'Services-Produits'!$A$1:$B$2000,2,FALSE),\"\")","v":""},""]
[null,null,{"$f":"IFERROR(VLOOKUP(A26,'Services-Produits'!$A$1:$B$2000,2,FALSE),\"\")","v":""},""]
[null,null,{"$f":"IFERROR(VLOOKUP(A27,'Services-Produits'!$A$1:$B$2000,2,FALSE),\"\")","v":""},""]
[null,null,{"$f":"IFERROR(VLOOKUP(A28,'Services-Produits'!$A$1:$B$2000,2,FALSE),\"\")","v":""},""]
[null,null,{"$f":"IFERROR(VLOOKUP(A29,'Services-Produits'!$A$1:$B$2000,2,FALSE),\"\")","v":""},""]
[null,null,{"$f":"IFERROR(VLOOKUP(A30,'Services-Produits'!$A$1:$B$2000,2,FALSE),\"\")","v":""},""]
[null,null,{"$f":"IFERROR(VLOOKUP(A31,'Services-Produits'!$A$1:$B$2000,2,FALSE),\"\")","v":""},""]
[null,null,{"$f":"IFERROR(VLOOKUP(A32,'Services-Produits'!$A$1:$B$2000,2,FALSE),\"\")","v":""},""]
[null,null,{"$f":"IFERROR(VLOOKUP(A33,'Services-Produits'!$A$1:$B$2000,2,FALSE),\"\")","v":""},""]
[null,null,{"$f":"IFERROR(VLOOKUP(A34,'Services-Produits'!$A$1:$B$2000,2,FALSE),\"\")","v":""},""]
[null,null,{"$f":"IFERROR(VLOOKUP(A35,'Services-Produits'!$A$1:$B$2000,2,FALSE),\"\")","v":""},""]
[null,null,{"$f":"IFERROR(VLOOKUP(A36,'Services-Produits'!$A$1:$B$2000,2,FALSE),\"\")","v":""},""]
[null,null,{"$f":"IFERROR(VLOOKUP(A37,'Services-Produits'!$A$1:$B$2000,2,FALSE),\"\")","v":""},""]
["Total in CHF",null,null,{"$f":"SUM(D17:D37)","v":849.15}]
[]
["Thank you very much for your trust!"]

{"sheet":"Aboe Bakar","index":6,"n_rows":40,"n_cols":4,"rows_kept":40,"cut":false,"hidden":false,"merged":[]}
[]
[]
["Invoice: 55H-02412-GM01"]
["                  05.12.2024"]
[]
[]
[]
[]
["Mr. Aboe Bakar"]
["Jakarta"]
["Indonesia"]
[]
[]
["Description","Qty","Price","Amount"]
["Patient: Aboe Bakar, M, 15.10.1969"]
[]
["Selenase",1,{"$f":"IFERROR(VLOOKUP(A17,'Services-Produits'!$A$1:$B$2000,2,FALSE),\"\")","v":175},{"$f":"IFERROR(B17*C17,\"\")","v":175}]
["Diabetische Polyneuropathie",3,{"$f":"IFERROR(VLOOKUP(A18,'Services-Produits'!$A$1:$B$2000,2,FALSE),\"\")","v":347.65},{"$f":"IFERROR(B18*C18,\"\")","v":1042.9499999999998}]
["Antioxidant Mix",4,{"$f":"IFERROR(VLOOKUP(A19,'Services-Produits'!$A$1:$B$2000,2,FALSE),\"\")","v":410},1640]
["Shoga Öl",1,{"$f":"IFERROR(VLOOKUP(A20,'Services-Produits'!$A$1:$B$2000,2,FALSE),\"\")","v":670},670]
["Spermidin",3,{"$f":"IFERROR(VLOOKUP(A21,'Services-Produits'!$A$1:$B$2000,2,FALSE),\"\")","v":182.35},547.04999999999995]
["Artesunat",1,{"$f":"IFERROR(VLOOKUP(A22,'Services-Produits'!$A$1:$B$2000,2,FALSE),\"\")","v":67.2},67.2]
["Curcumin 75 mg",1,{"$f":"IFERROR(VLOOKUP(A23,'Services-Produits'!$A$1:$B$2000,2,FALSE),\"\")","v":116.22},116.22]
["Skin Serum Swiss Microbiome",3,{"$f":"IFERROR(VLOOKUP(A24,'Services-Produits'!$A$1:$B$2000,2,FALSE),\"\")","v":76.5},229.5]
[null,null,{"$f":"IFERROR(VLOOKUP(A25,'Services-Produits'!$A$1:$B$2000,2,FALSE),\"\")","v":""},""]
[null,null,{"$f":"IFERROR(VLOOKUP(A26,'Services-Produits'!$A$1:$B$2000,2,FALSE),\"\")","v":""},""]
[null,null,{"$f":"IFERROR(VLOOKUP(A27,'Services-Produits'!$A$1:$B$2000,2,FALSE),\"\")","v":""},""]
[null,null,{"$f":"IFERROR(VLOOKUP(A28,'Services-Produits'!$A$1:$B$2000,2,FALSE),\"\")","v":""},""]
[null,null,{"$f":"IFERROR(VLOOKUP(A29,'Services-Produits'!$A$1:$B$2000,2,FALSE),\"\")","v":""},""]
[null,null,{"$f":"IFERROR(VLOOKUP(A30,'Services-Produits'!$A$1:$B$2000,2,FALSE),\"\")","v":""},""]
[null,null,{"$f":"IFERROR(VLOOKUP(A31,'Services-Produits'!$A$1:$B$2000,2,FALSE),\"\")","v":""},""]
[null,null,{"$f":"IFERROR(VLOOKUP(A32,'Services-Produits'!$A$1:$B$2000,2,FALSE),\"\")","v":""},""]
[null,null,{"$f":"IFERROR(VLOOKUP(A33,'Services-Produits'!$A$1:$B$2000,2,FALSE),\"\")","v":""},""]
[null,null,{"$f":"IFERROR(VLOOKUP(A34,'Services-Produits'!$A$1:$B$2000,2,FALSE),\"\")","v":""},""]
[null,null,{"$f":"IFERROR(VLOOKUP(A35,'Services-Produits'!$A$1:$B$2000,2,FALSE),\"\")","v":""},""]
[null,null,{"$f":"IFERROR(VLOOKUP(A36,'Services-Produits'!$A$1:$B$2000,2,FALSE),\"\")","v":""},""]
[null,null,{"$f":"IFERROR(VLOOKUP(A37,'Services-Produits'!$A$1:$B$2000,2,FALSE),\"\")","v":""},""]
["Total in CHF",null,null,{"$f":"SUM(D17:D37)","v":4487.92}]
[]
["Thank you very much for your trust!"]

{"sheet":"Ita Yuliati","index":7,"n_rows":28,"n_cols":4,"rows_kept":28,"cut":false,"hidden":false,"merged":[]}
[]
[]
["Invoice: 55H-02411-GM04"]
["                  18.11.2024"]
[]
[]
[]
[]
[]
["Ita Yuliati"]
["Jakarta"]
["Indonesia"]
[]
["Description","Qty","Price","Amount"]
["Patient: Ita Yuliati, F"]
[]
["Wegovy 0.25 mg",1,{"$f":"IFERROR(VLOOKUP(A17,'Services-Produits'!$A$1:$B$2000,2,FALSE),\"\")","v":178.95},{"$f":"IFERROR(B17*C17,\"\")","v":178.95}]
["Wegovy 0.5mg",1,{"$f":"IFERROR(VLOOKUP(A18,'Services-Produits'!$A$1:$B$2000,2,FALSE),\"\")","v":178.95},{"$f":"IFERROR(B18*C18,\"\")","v":178.95}]
[null,null,{"$f":"IFERROR(VLOOKUP(A19,'Services-Produits'!$A$1:$B$2000,2,FALSE),\"\")","v":""},""]
[null,null,{"$f":"IFERROR(VLOOKUP(A20,'Services-Produits'!$A$1:$B$2000,2,FALSE),\"\")","v":""},""]
[null,null,{"$f":"IFERROR(VLOOKUP(A21,'Services-Produits'!$A$1:$B$2000,2,FALSE),\"\")","v":""},""]
[null,null,{"$f":"IFERROR(VLOOKUP(A22,'Services-Produits'!$A$1:$B$2000,2,FALSE),\"\")","v":""},""]
[null,null,{"$f":"IFERROR(VLOOKUP(A23,'Services-Produits'!$A$1:$B$2000,2,FALSE),\"\")","v":""},""]
[null,null,{"$f":"IFERROR(VLOOKUP(A24,'Services-Produits'!$A$1:$B$2000,2,FALSE),\"\")","v":""},""]
[null,null,{"$f":"IFERROR(VLOOKUP(A25,'Services-Produits'!$A$1:$B$2000,2,FALSE),\"\")","v":""},""]
["Total in CHF",null,null,{"$f":"SUM(D17:D25)","v":357.9}]
[]
["Thank you very much for your trust!"]

{"sheet":"Agung Yadha Adhi Nuqraha","index":8,"n_rows":40,"n_cols":4,"rows_kept":40,"cut":false,"hidden":false,"merged":[]}
[]
[]
["Invoice: 55H-02411-GM18"]
["                  18.11.2024"]
[]
[]
[]
[]
["Mr. Agung Yadha Adhi Nuqraha"]
["Jakarta"]
["Indonesia"]
[]
[]
["Description","Qty","Price","Amount"]
["Patient: Agung Yadha Adhi Nuqraha, M, 29.06.1981"]
[]
["Antioxidant Mix",4,{"$f":"IFERROR(VLOOKUP(A17,'Services-Produits'!$A$1:$B$2000,2,FALSE),\"\")","v":410},{"$f":"IFERROR(B17*C17,\"\")","v":1640}]
["Mitochondrien Infusion",4,{"$f":"IFERROR(VLOOKUP(A18,'Services-Produits'!$A$1:$B$2000,2,FALSE),\"\")","v":428.7},{"$f":"IFERROR(B18*C18,\"\")","v":1714.8}]
["Protokol Lösung 1 Infusion",2,{"$f":"IFERROR(VLOOKUP(A19,'Services-Produits'!$A$1:$B$2000,2,FALSE),\"\")","v":79},158]
["Hydroxiprolin 2 g",3,{"$f":"IFERROR(VLOOKUP(A20,'Services-Produits'!$A$1:$B$2000,2,FALSE),\"\")","v":68.900000000000006},206.70000000000002]
["Biotin",4,{"$f":"IFERROR(VLOOKUP(A21,'Services-Produits'!$A$1:$B$2000,2,FALSE),\"\")","v":37.25},149]
["NAD+ 62.5 mg",8,{"$f":"IFERROR(VLOOKUP(A22,'Services-Produits'!$A$1:$B$2000,2,FALSE),\"\")","v":137.19999999999999},1097.5999999999999]
["Erbasit",1,{"$f":"IFERROR(VLOOKUP(A23,'Services-Produits'!$A$1:$B$2000,2,FALSE),\"\")","v":30.9},30.9]
["Microbiome",1,{"$f":"IFERROR(VLOOKUP(A24,'Services-Produits'!$A$1:$B$2000,2,FALSE),\"\")","v":74.95},74.95]
["ADEK",1,{"$f":"IFERROR(VLOOKUP(A25,'Services-Produits'!$A$1:$B$2000,2,FALSE),\"\")","v":37.6},37.6]
["Omnibiotic",1,{"$f":"IFERROR(VLOOKUP(A26,'Services-Produits'!$A$1:$B$2000,2,FALSE),\"\")","v":57.6},57.6]
["Spermidin",5,{"$f":"IFERROR(VLOOKUP(A27,'Services-Produits'!$A$1:$B$2000,2,FALSE),\"\")","v":182.35},911.75]
["Hydroxiprolin 2 g",1,{"$f":"IFERROR(VLOOKUP(A28,'Services-Produits'!$A$1:$B$2000,2,FALSE),\"\")","v":68.900000000000006},68.900000000000006]
["Glucosamin",1,{"$f":"IFERROR(VLOOKUP(A29,'Services-Produits'!$A$1:$B$2000,2,FALSE),\"\")","v":44.2},44.2]
["Erbasit",1,{"$f":"IFERROR(VLOOKUP(A30,'Services-Produits'!$A$1:$B$2000,2,FALSE),\"\")","v":30.9},30.9]
["Vit D3 Streuli",1,{"$f":"IFERROR(VLOOKUP(A31,'Services-Produits'!$A$1:$B$2000,2,FALSE),\"\")","v":26.3},26.3]
["Vitarubine",1,{"$f":"IFERROR(VLOOKUP(A32,'Services-Produits'!$A$1:$B$2000,2,FALSE),\"\")","v":25.5},25.5]
["Selenase",2,{"$f":"IFERROR(VLOOKUP(A33,'Services-Produits'!$A$1:$B$2000,2,FALSE),\"\")","v":175},350]
["NAD+ 62.5 mg",5,{"$f":"IFERROR(VLOOKUP(A34,'Services-Produits'!$A$1:$B$2000,2,FALSE),\"\")","v":137.19999999999999},686]
[null,null,{"$f":"IFERROR(VLOOKUP(A35,'Services-Produits'!$A$1:$B$2000,2,FALSE),\"\")","v":""},""]
[null,null,{"$f":"IFERROR(VLOOKUP(A36,'Services-Produits'!$A$1:$B$2000,2,FALSE),\"\")","v":""},""]
[null,null,{"$f":"IFERROR(VLOOKUP(A37,'Services-Produits'!$A$1:$B$2000,2,FALSE),\"\")","v":""},""]
["Total in CHF",null,null,{"$f":"SUM(D17:D37)","v":7310.7}]
[]
["Thank you very much for your trust!"]

{"sheet":"Bridjen Pol Tonny Hermawan","index":9,"n_rows":28,"n_cols":4,"rows_kept":28,"cut":false,"hidden":false,"merged":[]}
[]
[]
["Invoice: 55H-02411-GM02"]
["                  18.11.2024"]
[]
[]
[]
[]
[]
["Mr. Bridjen Pol Tonny Hermawan"]
["Jakarta"]
["Indonesia"]
[]
["Description","Qty","Price","Amount"]
["Patient: Budi Gunawan, M"]
[]
["Immunocare personalised Budi Gunawan 4 months",1,{"$f":"IFERROR(VLOOKUP(A17,'Services-Produits'!$A$1:$B$2000,2,FALSE),\"\")","v":1207.3499999999999},{"$f":"IFERROR(B17*C17,\"\")","v":1207.3499999999999}]
["Immunocare personalised Sudarti 4 months",1,{"$f":"IFERROR(VLOOKUP(A18,'Services-Produits'!$A$1:$B$2000,2,FALSE),\"\")","v":1108.6500000000001},{"$f":"IFERROR(B18*C18,\"\")","v":1108.6500000000001}]
["Omega 3",3,{"$f":"IFERROR(VLOOKUP(A19,'Services-Produits'!$A$1:$B$2000,2,FALSE),\"\")","v":58.3},174.89999999999998]
[null,null,{"$f":"IFERROR(VLOOKUP(A20,'Services-Produits'!$A$1:$B$2000,2,FALSE),\"\")","v":""},""]
[null,null,{"$f":"IFERROR(VLOOKUP(A21,'Services-Produits'!$A$1:$B$2000,2,FALSE),\"\")","v":""},""]
[null,null,{"$f":"IFERROR(VLOOKUP(A22,'Services-Produits'!$A$1:$B$2000,2,FALSE),\"\")","v":""},""]
[null,null,{"$f":"IFERROR(VLOOKUP(A23,'Services-Produits'!$A$1:$B$2000,2,FALSE),\"\")","v":""},""]
[null,null,{"$f":"IFERROR(VLOOKUP(A24,'Services-Produits'!$A$1:$B$2000,2,FALSE),\"\")","v":""},""]
[null,null,{"$f":"IFERROR(VLOOKUP(A25,'Services-Produits'!$A$1:$B$2000,2,FALSE),\"\")","v":""},""]
["Total in CHF",null,null,{"$f":"SUM(D17:D25)","v":2490.9}]
[]
["Thank you very much for your trust!"]

{"sheet":"Wisnu Soehardono","index":10,"n_rows":27,"n_cols":4,"rows_kept":27,"cut":false,"hidden":false,"merged":[]}
[]
[]
["Invoice: 55H-02411-GM03"]
["                  18.11.2024"]
[]
[]
[]
[]
[]
["Mr. Wisnu Soehardono"]
["Jakarta"]
["Indonesia"]
[]
["Description","Qty","Price","Amount"]
["Patient: Wisnu Soehardono, M"]
[]
["Beloc Zok 25 mg",1,{"$f":"IFERROR(VLOOKUP(A17,'Services-Produits'!$A$1:$B$2000,2,FALSE),\"\")","v":16.5},{"$f":"IFERROR(B17*C17,\"\")","v":16.5}]
["Tambocor 100 mg",1,{"$f":"IFERROR(VLOOKUP(A18,'Services-Produits'!$A$1:$B$2000,2,FALSE),\"\")","v":55.75},{"$f":"IFERROR(B18*C18,\"\")","v":55.75}]
["Vitamin C",1,{"$f":"IFERROR(VLOOKUP(A19,'Services-Produits'!$A$1:$B$2000,2,FALSE),\"\")","v":27.99},27.99]
["Cyspera",11,{"$f":"IFERROR(VLOOKUP(A20,'Services-Produits'!$A$1:$B$2000,2,FALSE),\"\")","v":168},1848]
[null,null,{"$f":"IFERROR(VLOOKUP(A21,'Services-Produits'!$A$1:$B$2000,2,FALSE),\"\")","v":""},""]
[null,null,{"$f":"IFERROR(VLOOKUP(A22,'Services-Produits'!$A$1:$B$2000,2,FALSE),\"\")","v":""},""]
[null,null,{"$f":"IFERROR(VLOOKUP(A23,'Services-Produits'!$A$1:$B$2000,2,FALSE),\"\")","v":""},""]
[null,null,{"$f":"IFERROR(VLOOKUP(A24,'Services-Produits'!$A$1:$B$2000,2,FALSE),\"\")","v":""},""]
["Total in CHF",null,null,{"$f":"SUM(D17:D24)","v":1948.24}]
[]
["Thank you very much for your trust!"]

{"sheet":"Dobias Iskandar","index":11,"n_rows":40,"n_cols":4,"rows_kept":40,"cut":false,"hidden":false,"merged":[]}
[]
[]
["Invoice: 55H-02411-GM05"]
["                  18.11.2024"]
[]
[]
[]
[]
["Mr. Dobias Iskandar"]
["Jakarta"]
["Indonesia"]
[]
[]
["Description","Qty","Price","Amount"]
["Patient: Dobias Iskandar, M, 16.11.1965"]
[]
["Lubex 500 ml",2,{"$f":"IFERROR(VLOOKUP(A17,'Services-Produits'!$A$1:$B$2000,2,FALSE),\"\")","v":29.55},{"$f":"IFERROR(B17*C17,\"\")","v":59.1}]
["Lubex 150 ml",4,{"$f":"IFERROR(VLOOKUP(A18,'Services-Produits'!$A$1:$B$2000,2,FALSE),\"\")","v":11.65},{"$f":"IFERROR(B18*C18,\"\")","v":46.6}]
["Microbiome",3,{"$f":"IFERROR(VLOOKUP(A19,'Services-Produits'!$A$1:$B$2000,2,FALSE),\"\")","v":74.95},224.85000000000002]
["Diabetische Polyneuropathie",2,{"$f":"IFERROR(VLOOKUP(A20,'Services-Produits'!$A$1:$B$2000,2,FALSE),\"\")","v":347.65},695.3]
["Antioxidant Mix",2,{"$f":"IFERROR(VLOOKUP(A21,'Services-Produits'!$A$1:$B$2000,2,FALSE),\"\")","v":410},820]
["Hydroxiprolin 2 g",6,{"$f":"IFERROR(VLOOKUP(A22,'Services-Produits'!$A$1:$B$2000,2,FALSE),\"\")","v":68.900000000000006},413.40000000000003]
["Cerebrolysin 10 ml",1,{"$f":"IFERROR(VLOOKUP(A23,'Services-Produits'!$A$1:$B$2000,2,FALSE),\"\")","v":99.6},99.6]
[null,null,{"$f":"IFERROR(VLOOKUP(A24,'Services-Produits'!$A$1:$B$2000,2,FALSE),\"\")","v":""},""]
[null,null,{"$f":"IFERROR(VLOOKUP(A25,'Services-Produits'!$A$1:$B$2000,2,FALSE),\"\")","v":""},""]
[null,null,{"$f":"IFERROR(VLOOKUP(A26,'Services-Produits'!$A$1:$B$2000,2,FALSE),\"\")","v":""},""]
[null,null,{"$f":"IFERROR(VLOOKUP(A27,'Services-Produits'!$A$1:$B$2000,2,FALSE),\"\")","v":""},""]
[null,null,{"$f":"IFERROR(VLOOKUP(A28,'Services-Produits'!$A$1:$B$2000,2,FALSE),\"\")","v":""},""]
[null,null,{"$f":"IFERROR(VLOOKUP(A29,'Services-Produits'!$A$1:$B$2000,2,FALSE),\"\")","v":""},""]
[null,null,{"$f":"IFERROR(VLOOKUP(A30,'Services-Produits'!$A$1:$B$2000,2,FALSE),\"\")","v":""},""]
[null,null,{"$f":"IFERROR(VLOOKUP(A31,'Services-Produits'!$A$1:$B$2000,2,FALSE),\"\")","v":""},""]
[null,null,{"$f":"IFERROR(VLOOKUP(A32,'Services-Produits'!$A$1:$B$2000,2,FALSE),\"\")","v":""},""]
[null,null,{"$f":"IFERROR(VLOOKUP(A33,'Services-Produits'!$A$1:$B$2000,2,FALSE),\"\")","v":""},""]
[null,null,{"$f":"IFERROR(VLOOKUP(A34,'Services-Produits'!$A$1:$B$2000,2,FALSE),\"\")","v":""},""]
[null,null,{"$f":"IFERROR(VLOOKUP(A35,'Services-Produits'!$A$1:$B$2000,2,FALSE),\"\")","v":""},""]
[null,null,{"$f":"IFERROR(VLOOKUP(A36,'Services-Produits'!$A$1:$B$2000,2,FALSE),\"\")","v":""},""]
[null,null,{"$f":"IFERROR(VLOOKUP(A37,'Services-Produits'!$A$1:$B$2000,2,FALSE),\"\")","v":""},""]
["Total in CHF",null,null,{"$f":"SUM(D17:D37)","v":2358.85}]
[]
["Thank you very much for your trust!"]

{"sheet":"Peter Pramana","index":12,"n_rows":40,"n_cols":4,"rows_kept":40,"cut":false,"hidden":false,"merged":[]}
[]
[]
["Invoice: 55H-02411-GM06"]
["                  18.11.2024"]
[]
[]
[]
[]
["Mr. Peter Pramana"]
["Jakarta"]
["Indonesia"]
[]
[]
["Description","Qty","Price","Amount"]
["Patient: Peter Pramana, M, 10.08.1974"]
[]
["Liver Detox Liv.52",1,{"$f":"IFERROR(VLOOKUP(A17,'Services-Produits'!$A$1:$B$2000,2,FALSE),\"\")","v":21},{"$f":"IFERROR(B17*C17,\"\")","v":21}]
["Cholin Inject",2,{"$f":"IFERROR(VLOOKUP(A18,'Services-Produits'!$A$1:$B$2000,2,FALSE),\"\")","v":43},{"$f":"IFERROR(B18*C18,\"\")","v":86}]
["Schwarzkümmel",2,{"$f":"IFERROR(VLOOKUP(A19,'Services-Produits'!$A$1:$B$2000,2,FALSE),\"\")","v":39},78]
["Bioflorin",2,{"$f":"IFERROR(VLOOKUP(A20,'Services-Produits'!$A$1:$B$2000,2,FALSE),\"\")","v":18.350000000000001},36.700000000000003]
[null,null,{"$f":"IFERROR(VLOOKUP(A21,'Services-Produits'!$A$1:$B$2000,2,FALSE),\"\")","v":""},""]
[null,null,{"$f":"IFERROR(VLOOKUP(A22,'Services-Produits'!$A$1:$B$2000,2,FALSE),\"\")","v":""},""]
[null,null,{"$f":"IFERROR(VLOOKUP(A23,'Services-Produits'!$A$1:$B$2000,2,FALSE),\"\")","v":""},""]
[null,null,{"$f":"IFERROR(VLOOKUP(A24,'Services-Produits'!$A$1:$B$2000,2,FALSE),\"\")","v":""},""]
[null,null,{"$f":"IFERROR(VLOOKUP(A25,'Services-Produits'!$A$1:$B$2000,2,FALSE),\"\")","v":""},""]
[null,null,{"$f":"IFERROR(VLOOKUP(A26,'Services-Produits'!$A$1:$B$2000,2,FALSE),\"\")","v":""},""]
[null,null,{"$f":"IFERROR(VLOOKUP(A27,'Services-Produits'!$A$1:$B$2000,2,FALSE),\"\")","v":""},""]
[null,null,{"$f":"IFERROR(VLOOKUP(A28,'Services-Produits'!$A$1:$B$2000,2,FALSE),\"\")","v":""},""]
[null,null,{"$f":"IFERROR(VLOOKUP(A29,'Services-Produits'!$A$1:$B$2000,2,FALSE),\"\")","v":""},""]
[null,null,{"$f":"IFERROR(VLOOKUP(A30,'Services-Produits'!$A$1:$B$2000,2,FALSE),\"\")","v":""},""]
[null,null,{"$f":"IFERROR(VLOOKUP(A31,'Services-Produits'!$A$1:$B$2000,2,FALSE),\"\")","v":""},""]
[null,null,{"$f":"IFERROR(VLOOKUP(A32,'Services-Produits'!$A$1:$B$2000,2,FALSE),\"\")","v":""},""]
[null,null,{"$f":"IFERROR(VLOOKUP(A33,'Services-Produits'!$A$1:$B$2000,2,FALSE),\"\")","v":""},""]
[null,null,{"$f":"IFERROR(VLOOKUP(A34,'Services-Produits'!$A$1:$B$2000,2,FALSE),\"\")","v":""},""]
[null,null,{"$f":"IFERROR(VLOOKUP(A35,'Services-Produits'!$A$1:$B$2000,2,FALSE),\"\")","v":""},""]
[null,null,{"$f":"IFERROR(VLOOKUP(A36,'Services-Produits'!$A$1:$B$2000,2,FALSE),\"\")","v":""},""]
[null,null,{"$f":"IFERROR(VLOOKUP(A37,'Services-Produits'!$A$1:$B$2000,2,FALSE),\"\")","v":""},""]
["Total in CHF",null,null,{"$f":"SUM(D17:D37)","v":221.7}]
[]
["Thank you very much for your trust!"]

{"sheet":"Herman Herry Adranacus","index":13,"n_rows":40,"n_cols":4,"rows_kept":40,"cut":false,"hidden":false,"merged":[]}
[]
[]
["Invoice: 55H-02411-GM07"]
["                  18.11.2024"]
[]
[]
[]
[]
["Mr. Herman Herry Adranacus"]
["Jakarta"]
["Indonesia"]
[]
[]
["Description","Qty","Price","Amount"]
["Patient: Herman Herry Adranacus, M, 26.11.1962"]
[]
["Mitochondrien Infusion",2,{"$f":"IFERROR(VLOOKUP(A17,'Services-Produits'!$A$1:$B$2000,2,FALSE),\"\")","v":428.7},{"$f":"IFERROR(B17*C17,\"\")","v":857.4}]
["Gut Microbiome 2 transplants",1,{"$f":"IFERROR(VLOOKUP(A18,'Services-Produits'!$A$1:$B$2000,2,FALSE),\"\")","v":14399.5},{"$f":"IFERROR(B18*C18,\"\")","v":14399.5}]
["Gut Microbiome 2 transplants 15% discount",null,{"$f":"D18*0.15","v":2159.9249999999997},{"$f":"-C19","v":-2159.9249999999997}]
["Diabetische Polyneuropathie",2,{"$f":"IFERROR(VLOOKUP(A20,'Services-Produits'!$A$1:$B$2000,2,FALSE),\"\")","v":347.65},695.3]
["Protokol Lösung 1 Infusion",2,{"$f":"IFERROR(VLOOKUP(A21,'Services-Produits'!$A$1:$B$2000,2,FALSE),\"\")","v":79},158]
["Glutathion red. Injekt",5,{"$f":"IFERROR(VLOOKUP(A22,'Services-Produits'!$A$1:$B$2000,2,FALSE),\"\")","v":62},310]
["Biotin",5,{"$f":"IFERROR(VLOOKUP(A23,'Services-Produits'!$A$1:$B$2000,2,FALSE),\"\")","v":37.25},186.25]
["NAD+",6,{"$f":"IFERROR(VLOOKUP(A24,'Services-Produits'!$A$1:$B$2000,2,FALSE),\"\")","v":""},""]
["Bosvene Akba",2,{"$f":"IFERROR(VLOOKUP(A25,'Services-Produits'!$A$1:$B$2000,2,FALSE),\"\")","v":215.11},430.22]
["Reservatrol + NaCl 0,9% 300 ml",5,{"$f":"IFERROR(VLOOKUP(A26,'Services-Produits'!$A$1:$B$2000,2,FALSE),\"\")","v":178},890]
["Curcumin 150 mg",7,{"$f":"IFERROR(VLOOKUP(A27,'Services-Produits'!$A$1:$B$2000,2,FALSE),\"\")","v":229.2},1604.3999999999999]
["Cholin Inject",3,{"$f":"IFERROR(VLOOKUP(A28,'Services-Produits'!$A$1:$B$2000,2,FALSE),\"\")","v":43},129]
["Cerebrolysin 10 ml",9,{"$f":"IFERROR(VLOOKUP(A29,'Services-Produits'!$A$1:$B$2000,2,FALSE),\"\")","v":99.6},896.4]
["Deposit stem cell therapy",1,{"$f":"IFERROR(VLOOKUP(A30,'Services-Produits'!$A$1:$B$2000,2,FALSE),\"\")","v":41000},41000]
["Payment received",null,19714.509999999998,{"$f":"IF(A31=\"Payment received\",-C31,0)","v":-19714.509999999998}]
[null,null,{"$f":"IFERROR(VLOOKUP(A32,'Services-Produits'!$A$1:$B$2000,2,FALSE),\"\")","v":""},""]
[null,null,{"$f":"IFERROR(VLOOKUP(A33,'Services-Produits'!$A$1:$B$2000,2,FALSE),\"\")","v":""},""]
[null,null,{"$f":"IFERROR(VLOOKUP(A34,'Services-Produits'!$A$1:$B$2000,2,FALSE),\"\")","v":""},""]
[null,null,{"$f":"IFERROR(VLOOKUP(A35,'Services-Produits'!$A$1:$B$2000,2,FALSE),\"\")","v":""},""]
[null,null,{"$f":"IFERROR(VLOOKUP(A36,'Services-Produits'!$A$1:$B$2000,2,FALSE),\"\")","v":""},""]
[null,null,{"$f":"IFERROR(VLOOKUP(A37,'Services-Produits'!$A$1:$B$2000,2,FALSE),\"\")","v":""},""]
["Total in CHF",null,null,{"$f":"SUM(D17:D37)","v":39682.035000000003}]
[]
["Thank you very much for your trust!"]

{"sheet":"Thiha Aung","index":14,"n_rows":40,"n_cols":4,"rows_kept":40,"cut":false,"hidden":false,"merged":[]}
[]
[]
["Invoice: 55H-02411-GM08"]
["                  18.11.2024"]
[]
[]
[]
[]
["Mr. Thiha Aung"]
["Jakarta"]
["Indonesia"]
[]
[]
["Description","Qty","Price","Amount"]
["Patient: Thiha Aung, M, 19.09.1974"]
[]
["Gut Microbiome 2 transplants",1,{"$f":"IFERROR(VLOOKUP(A17,'Services-Produits'!$A$1:$B$2000,2,FALSE),\"\")","v":14399.5},{"$f":"IFERROR(B17*C17,\"\")","v":14399.5}]
[null,null,{"$f":"IFERROR(VLOOKUP(#REF!,'Services-Produits'!$A$1:$B$2000,2,FALSE),\"\")","v":""},{"$f":"IFERROR(B18*C18,\"\")","v":""}]
[null,null,{"$f":"IFERROR(VLOOKUP(A18,'Services-Produits'!$A$1:$B$2000,2,FALSE),\"\")","v":""},""]
[null,null,{"$f":"IFERROR(VLOOKUP(A20,'Services-Produits'!$A$1:$B$2000,2,FALSE),\"\")","v":""},""]
[null,null,{"$f":"IFERROR(VLOOKUP(A21,'Services-Produits'!$A$1:$B$2000,2,FALSE),\"\")","v":""},""]
[null,null,{"$f":"IFERROR(VLOOKUP(A22,'Services-Produits'!$A$1:$B$2000,2,FALSE),\"\")","v":""},""]
[null,null,{"$f":"IFERROR(VLOOKUP(A23,'Services-Produits'!$A$1:$B$2000,2,FALSE),\"\")","v":""},""]
[null,null,{"$f":"IFERROR(VLOOKUP(A24,'Services-Produits'!$A$1:$B$2000,2,FALSE),\"\")","v":""},""]
[null,null,{"$f":"IFERROR(VLOOKUP(A25,'Services-Produits'!$A$1:$B$2000,2,FALSE),\"\")","v":""},""]
[null,null,{"$f":"IFERROR(VLOOKUP(A26,'Services-Produits'!$A$1:$B$2000,2,FALSE),\"\")","v":""},""]
[null,null,{"$f":"IFERROR(VLOOKUP(A27,'Services-Produits'!$A$1:$B$2000,2,FALSE),\"\")","v":""},""]
[null,null,{"$f":"IFERROR(VLOOKUP(A28,'Services-Produits'!$A$1:$B$2000,2,FALSE),\"\")","v":""},""]
[null,null,{"$f":"IFERROR(VLOOKUP(A29,'Services-Produits'!$A$1:$B$2000,2,FALSE),\"\")","v":""},""]
[null,null,{"$f":"IFERROR(VLOOKUP(A30,'Services-Produits'!$A$1:$B$2000,2,FALSE),\"\")","v":""},""]
[null,null,{"$f":"IFERROR(VLOOKUP(A31,'Services-Produits'!$A$1:$B$2000,2,FALSE),\"\")","v":""},""]
[null,null,{"$f":"IFERROR(VLOOKUP(A32,'Services-Produits'!$A$1:$B$2000,2,FALSE),\"\")","v":""},""]
[null,null,{"$f":"IFERROR(VLOOKUP(A33,'Services-Produits'!$A$1:$B$2000,2,FALSE),\"\")","v":""},""]
[null,null,{"$f":"IFERROR(VLOOKUP(A34,'Services-Produits'!$A$1:$B$2000,2,FALSE),\"\")","v":""},""]
[null,null,{"$f":"IFERROR(VLOOKUP(A35,'Services-Produits'!$A$1:$B$2000,2,FALSE),\"\")","v":""},""]
[null,null,{"$f":"IFERROR(VLOOKUP(A36,'Services-Produits'!$A$1:$B$2000,2,FALSE),\"\")","v":""},""]
[null,null,{"$f":"IFERROR(VLOOKUP(A37,'Services-Produits'!$A$1:$B$2000,2,FALSE),\"\")","v":""},""]
["Total in CHF",null,null,{"$f":"SUM(D17:D37)","v":14399.5}]
[]
["Thank you very much for your trust!"]

{"sheet":"Adex Yudiswan","index":15,"n_rows":40,"n_cols":4,"rows_kept":40,"cut":false,"hidden":false,"merged":[]}
[]
[]
["Invoice: 55H-02411-GM09"]
["                  18.11.2024"]
[]
[]
[]
[]
["Mr. Adex Yudiswan"]
["Jakarta"]
["Indonesia"]
[]
[]
["Description","Qty","Price","Amount"]
["Patient: Adex Yudiswan, M, 01.12.1974"]
[]
["Raab Flohsamen",6,{"$f":"IFERROR(VLOOKUP(A17,'Services-Produits'!$A$1:$B$2000,2,FALSE),\"\")","v":14.85},{"$f":"IFERROR(B17*C17,\"\")","v":89.1}]
["Rhodiola",2,{"$f":"IFERROR(VLOOKUP(A18,'Services-Produits'!$A$1:$B$2000,2,FALSE),\"\")","v":33.450000000000003},{"$f":"IFERROR(B18*C18,\"\")","v":66.900000000000006}]
["Xanax 2 mg",1,{"$f":"IFERROR(VLOOKUP(A19,'Services-Produits'!$A$1:$B$2000,2,FALSE),\"\")","v":42.75},42.75]
["Omnibiotic",1,{"$f":"IFERROR(VLOOKUP(A20,'Services-Produits'!$A$1:$B$2000,2,FALSE),\"\")","v":57.6},57.6]
["Tadalafil-Mepha 5 mg",4,{"$f":"IFERROR(VLOOKUP(A21,'Services-Produits'!$A$1:$B$2000,2,FALSE),\"\")","v":115},460]
["Vit D3 Streuli",1,{"$f":"IFERROR(VLOOKUP(A22,'Services-Produits'!$A$1:$B$2000,2,FALSE),\"\")","v":26.3},26.3]
["Vit B12 Zentivu",2,{"$f":"IFERROR(VLOOKUP(A23,'Services-Produits'!$A$1:$B$2000,2,FALSE),\"\")","v":25.5},51]
["NAD+",4,{"$f":"IFERROR(VLOOKUP(A24,'Services-Produits'!$A$1:$B$2000,2,FALSE),\"\")","v":""},""]
["Antioxidant Mix",2,{"$f":"IFERROR(VLOOKUP(A25,'Services-Produits'!$A$1:$B$2000,2,FALSE),\"\")","v":410},820]
["Mitochondrien Mix Infusion",2,{"$f":"IFERROR(VLOOKUP(A26,'Services-Produits'!$A$1:$B$2000,2,FALSE),\"\")","v":428.7},857.4]
[null,null,{"$f":"IFERROR(VLOOKUP(A27,'Services-Produits'!$A$1:$B$2000,2,FALSE),\"\")","v":""},""]
[null,null,{"$f":"IFERROR(VLOOKUP(A28,'Services-Produits'!$A$1:$B$2000,2,FALSE),\"\")","v":""},""]
[null,null,{"$f":"IFERROR(VLOOKUP(A29,'Services-Produits'!$A$1:$B$2000,2,FALSE),\"\")","v":""},""]
[null,null,{"$f":"IFERROR(VLOOKUP(A30,'Services-Produits'!$A$1:$B$2000,2,FALSE),\"\")","v":""},""]
[null,null,{"$f":"IFERROR(VLOOKUP(A31,'Services-Produits'!$A$1:$B$2000,2,FALSE),\"\")","v":""},""]
[null,null,{"$f":"IFERROR(VLOOKUP(A32,'Services-Produits'!$A$1:$B$2000,2,FALSE),\"\")","v":""},""]
[null,null,{"$f":"IFERROR(VLOOKUP(A33,'Services-Produits'!$A$1:$B$2000,2,FALSE),\"\")","v":""},""]
[null,null,{"$f":"IFERROR(VLOOKUP(A34,'Services-Produits'!$A$1:$B$2000,2,FALSE),\"\")","v":""},""]
[null,null,{"$f":"IFERROR(VLOOKUP(A35,'Services-Produits'!$A$1:$B$2000,2,FALSE),\"\")","v":""},""]
[null,null,{"$f":"IFERROR(VLOOKUP(A36,'Services-Produits'!$A$1:$B$2000,2,FALSE),\"\")","v":""},""]
[null,null,{"$f":"IFERROR(VLOOKUP(A37,'Services-Produits'!$A$1:$B$2000,2,FALSE),\"\")","v":""},""]
["Total in CHF",null,null,{"$f":"SUM(D17:D37)","v":2471.0500000000002}]
[]
["Thank you very much for your trust!"]

{"sheet":"Muljadi Tjahjono","index":16,"n_rows":40,"n_cols":4,"rows_kept":40,"cut":false,"hidden":false,"merged":[]}
[]
[]
["Invoice: 55H-02411-GM10"]
["                  18.11.2024"]
[]
[]
[]
[]
["Mr. Muljadi Tjahjono"]
["Jakarta"]
["Indonesia"]
[]
[]
["Description","Qty","Price","Amount"]
["Patient: Muljadi Tjahjono, M, 22.01.1965"]
[]
["Stem cell treatment",1,{"$f":"IFERROR(VLOOKUP(A17,'Services-Produits'!$A$1:$B$2000,2,FALSE),\"\")","v":49370},{"$f":"IFERROR(B17*C17,\"\")","v":49370}]
["Lipoaspiration"]
["Anesthesie"]
["Facial contouring"]
["Hair & organ rejuvenation"]
["PRP"]
["SVF transplant"]
["Cell banking 10 years"]
["hADSC processing"]
["hADSC cell released QTY 5.000.000 released 28.10.23"]
["Mitochondrien Infusion",1,{"$f":"IFERROR(VLOOKUP(A27,'Services-Produits'!$A$1:$B$2000,2,FALSE),\"\")","v":428.7},{"$f":"IFERROR(B27*C27,\"\")","v":428.7}]
[null,null,{"$f":"IFERROR(VLOOKUP(A28,'Services-Produits'!$A$1:$B$2000,2,FALSE),\"\")","v":""},""]
[null,null,{"$f":"IFERROR(VLOOKUP(A29,'Services-Produits'!$A$1:$B$2000,2,FALSE),\"\")","v":""},""]
[null,null,{"$f":"IFERROR(VLOOKUP(A30,'Services-Produits'!$A$1:$B$2000,2,FALSE),\"\")","v":""},""]
[null,null,{"$f":"IFERROR(VLOOKUP(A31,'Services-Produits'!$A$1:$B$2000,2,FALSE),\"\")","v":""},""]
[null,null,{"$f":"IFERROR(VLOOKUP(A32,'Services-Produits'!$A$1:$B$2000,2,FALSE),\"\")","v":""},""]
[null,null,{"$f":"IFERROR(VLOOKUP(A33,'Services-Produits'!$A$1:$B$2000,2,FALSE),\"\")","v":""},""]
[null,null,{"$f":"IFERROR(VLOOKUP(A34,'Services-Produits'!$A$1:$B$2000,2,FALSE),\"\")","v":""},""]
[null,null,{"$f":"IFERROR(VLOOKUP(A35,'Services-Produits'!$A$1:$B$2000,2,FALSE),\"\")","v":""},""]
[null,null,{"$f":"IFERROR(VLOOKUP(A36,'Services-Produits'!$A$1:$B$2000,2,FALSE),\"\")","v":""},""]
[null,null,{"$f":"IFERROR(VLOOKUP(A37,'Services-Produits'!$A$1:$B$2000,2,FALSE),\"\")","v":""},""]
["Total in CHF",null,null,{"$f":"SUM(D17:D37)","v":49798.7}]
[]
["Thank you very much for your trust!"]

{"sheet":"Herly Julianti","index":17,"n_rows":40,"n_cols":4,"rows_kept":40,"cut":false,"hidden":false,"merged":[]}
[]
[]
["Invoice: 55H-02411-GM016"]
["                  18.11.2024"]
[]
[]
[]
[]
["Mr. Herly Julianti"]
["Jakarta"]
["Indonesia"]
[]
[]
["Description","Qty","Price","Amount"]
["Patient: Herly Julianti, M, 01.07.1975"]
[]
["Stem cell treatment",1,{"$f":"IFERROR(VLOOKUP(A17,'Services-Produits'!$A$1:$B$2000,2,FALSE),\"\")","v":49370},{"$f":"IFERROR(B17*C17,\"\")","v":49370}]
["Lipoaspiration"]
["Anesthesie"]
["Facial contouring"]
["Hair & organ rejuvenation"]
["PRP"]
["SVF transplant"]
["Cell banking 10 years"]
["hADSC processing"]
["hADSC cell released QTY 5.000.000 released 28.10.23"]
["Mitochondrien Infusion",1,{"$f":"IFERROR(VLOOKUP(A27,'Services-Produits'!$A$1:$B$2000,2,FALSE),\"\")","v":428.7},{"$f":"IFERROR(B27*C27,\"\")","v":428.7}]
[null,null,{"$f":"IFERROR(VLOOKUP(A28,'Services-Produits'!$A$1:$B$2000,2,FALSE),\"\")","v":""},""]
[null,null,{"$f":"IFERROR(VLOOKUP(A29,'Services-Produits'!$A$1:$B$2000,2,FALSE),\"\")","v":""},""]
[null,null,{"$f":"IFERROR(VLOOKUP(A30,'Services-Produits'!$A$1:$B$2000,2,FALSE),\"\")","v":""},""]
[null,null,{"$f":"IFERROR(VLOOKUP(A31,'Services-Produits'!$A$1:$B$2000,2,FALSE),\"\")","v":""},""]
[null,null,{"$f":"IFERROR(VLOOKUP(A32,'Services-Produits'!$A$1:$B$2000,2,FALSE),\"\")","v":""},""]
[null,null,{"$f":"IFERROR(VLOOKUP(A33,'Services-Produits'!$A$1:$B$2000,2,FALSE),\"\")","v":""},""]
[null,null,{"$f":"IFERROR(VLOOKUP(A34,'Services-Produits'!$A$1:$B$2000,2,FALSE),\"\")","v":""},""]
[null,null,{"$f":"IFERROR(VLOOKUP(A35,'Services-Produits'!$A$1:$B$2000,2,FALSE),\"\")","v":""},""]
[null,null,{"$f":"IFERROR(VLOOKUP(A36,'Services-Produits'!$A$1:$B$2000,2,FALSE),\"\")","v":""},""]
[null,null,{"$f":"IFERROR(VLOOKUP(A37,'Services-Produits'!$A$1:$B$2000,2,FALSE),\"\")","v":""},""]
["Total in CHF",null,null,{"$f":"SUM(D17:D37)","v":49798.7}]
[]
["Thank you very much for your trust!"]

{"sheet":"Invoices 18.11.24","index":18,"n_rows":20,"n_cols":5,"rows_kept":20,"cut":false,"hidden":false,"merged":[[1,0,1,4]]}
[]
["Invoices from 18.11.2024"]
["Patient name","Invoice Nr.","SM/SBL","Amount(CHF)","Amount(IDR)"]
["Bridjen Pol Tonny Hermawan"," 55H-02411-GM02","SBL",2490.9]
["Wisnu Soehardono"," 55H-02411-GM03","SBL",1948.24]
["Ita Yuliati"," 55H-02411-GM04","SBL",357.9]
["Dobias Iskandar"," 55H-02411-GM05","SM",2358.85]
["Peter Pramana"," 55H-02411-GM06","SM",221.7]
["Herman Herry Adranacus"," 55H-02411-GM07","SM",19714.509999999998]
["Thiha Aung"," 55H-02411-GM08","SM",14399.5]
["Adex Yudiswan"," 55H-02411-GM09","SM",3349.69]
["Muljadi Tjahjono"," 55H-02411-GM10","SM",49798.7]
["Vino Romano"," 55H-02411-GM11","SM",888.75]
["Aboe Bakar"," 55H-02411-GM12","SM",3643.85]
["Agus Adrianto"," 55H-02411-GM13","SM",20292.849999999999]
["Erlin Diyanto Hong"," 55H-02411-GM14","SM",3080.85,7266000]
["Agung Yadha Adhi Nugraha"," 55H-02411-GM15","SM",1689.61]
["Herly Julianti"," 55H-02411-GM16","SM",49798.7]
["Ahnar Magenda"," 55H-02411-GM17","SBL",24337.57]
[null,null,"Total:",{"$f":"SUM(D4:D19)","v":198372.17},{"$f":"SUM(E4:E19)","v":7266000}]

{"sheet":"Vino","index":19,"n_rows":40,"n_cols":4,"rows_kept":40,"cut":false,"hidden":false,"merged":[]}
[]
[]
["Invoice: 55H-02411-GM11"]
["                  18.11.2024"]
[]
[]
[]
[]
["Mrs. Vino Romano"]
["Jakarta"]
["Indonesia"]
[]
[]
["Description","Qty","Price","Amount"]
["Patient: Vino Romano,  M, 11.11.1988"]
[]
["Fetusan",5,{"$f":"IFERROR(VLOOKUP(A17,'Services-Produits'!$A$1:$B$2000,2,FALSE),\"\")","v":42.75},{"$f":"IFERROR(B17*C17,\"\")","v":213.75}]
["Tadalafil-Mepha 2.5 mg",4,{"$f":"IFERROR(VLOOKUP(A18,'Services-Produits'!$A$1:$B$2000,2,FALSE),\"\")","v":115},{"$f":"IFERROR(B18*C18,\"\")","v":460}]
["Cholin Inject",5,{"$f":"IFERROR(VLOOKUP(A19,'Services-Produits'!$A$1:$B$2000,2,FALSE),\"\")","v":43},215]
[null,null,{"$f":"IFERROR(VLOOKUP(A20,'Services-Produits'!$A$1:$B$2000,2,FALSE),\"\")","v":""},""]
[null,null,{"$f":"IFERROR(VLOOKUP(A21,'Services-Produits'!$A$1:$B$2000,2,FALSE),\"\")","v":""},""]
[null,null,{"$f":"IFERROR(VLOOKUP(A22,'Services-Produits'!$A$1:$B$2000,2,FALSE),\"\")","v":""},""]
[null,null,{"$f":"IFERROR(VLOOKUP(A23,'Services-Produits'!$A$1:$B$2000,2,FALSE),\"\")","v":""},""]
[null,null,{"$f":"IFERROR(VLOOKUP(A24,'Services-Produits'!$A$1:$B$2000,2,FALSE),\"\")","v":""},""]
[null,null,{"$f":"IFERROR(VLOOKUP(A25,'Services-Produits'!$A$1:$B$2000,2,FALSE),\"\")","v":""},""]
[null,null,{"$f":"IFERROR(VLOOKUP(A26,'Services-Produits'!$A$1:$B$2000,2,FALSE),\"\")","v":""},""]
[null,null,{"$f":"IFERROR(VLOOKUP(A27,'Services-Produits'!$A$1:$B$2000,2,FALSE),\"\")","v":""},""]
[null,null,{"$f":"IFERROR(VLOOKUP(A28,'Services-Produits'!$A$1:$B$2000,2,FALSE),\"\")","v":""},""]
[null,null,{"$f":"IFERROR(VLOOKUP(A29,'Services-Produits'!$A$1:$B$2000,2,FALSE),\"\")","v":""},""]
[null,null,{"$f":"IFERROR(VLOOKUP(A30,'Services-Produits'!$A$1:$B$2000,2,FALSE),\"\")","v":""},""]
[null,null,{"$f":"IFERROR(VLOOKUP(A31,'Services-Produits'!$A$1:$B$2000,2,FALSE),\"\")","v":""},""]
[null,null,{"$f":"IFERROR(VLOOKUP(A32,'Services-Produits'!$A$1:$B$2000,2,FALSE),\"\")","v":""},""]
[null,null,{"$f":"IFERROR(VLOOKUP(A33,'Services-Produits'!$A$1:$B$2000,2,FALSE),\"\")","v":""},""]
[null,null,{"$f":"IFERROR(VLOOKUP(A34,'Services-Produits'!$A$1:$B$2000,2,FALSE),\"\")","v":""},""]
[null,null,{"$f":"IFERROR(VLOOKUP(A35,'Services-Produits'!$A$1:$B$2000,2,FALSE),\"\")","v":""},""]
[null,null,{"$f":"IFERROR(VLOOKUP(A36,'Services-Produits'!$A$1:$B$2000,2,FALSE),\"\")","v":""},""]
[null,null,{"$f":"IFERROR(VLOOKUP(A37,'Services-Produits'!$A$1:$B$2000,2,FALSE),\"\")","v":""},""]
["Total in CHF",null,null,{"$f":"SUM(D17:D37)","v":888.75}]
[]
["Thank you very much for your trust!"]

{"sheet":"Aboe Bakar-1","index":20,"n_rows":40,"n_cols":4,"rows_kept":40,"cut":false,"hidden":false,"merged":[]}
[]
[]
["Invoice: 55H-02411-GM12"]
["                  18.11.2024"]
[]
[]
[]
[]
["Mr. Aboe Bakar"]
["Jakarta"]
["Indonesia"]
[]
[]
["Description","Qty","Price","Amount"]
["Patient: Aboe Bakar, M, 15.10.1969"]
[]
["Skin Emulsion Swiss Microbiome",3,{"$f":"IFERROR(VLOOKUP(A17,'Services-Produits'!$A$1:$B$2000,2,FALSE),\"\")","v":58.25},{"$f":"IFERROR(B17*C17,\"\")","v":174.75}]
["Rich Lotion Swiss Microbiome",1,{"$f":"IFERROR(VLOOKUP(A18,'Services-Produits'!$A$1:$B$2000,2,FALSE),\"\")","v":68.849999999999994},{"$f":"IFERROR(B18*C18,\"\")","v":68.849999999999994}]
["Antioxidant Infusion",2,{"$f":"IFERROR(VLOOKUP(A19,'Services-Produits'!$A$1:$B$2000,2,FALSE),\"\")","v":410},820]
["Diabetische Polyneuropathie",2,{"$f":"IFERROR(VLOOKUP(A20,'Services-Produits'!$A$1:$B$2000,2,FALSE),\"\")","v":347.65},695.3]
["Hydroxiprolin 2 g",3,{"$f":"IFERROR(VLOOKUP(A21,'Services-Produits'!$A$1:$B$2000,2,FALSE),\"\")","v":68.900000000000006},206.70000000000002]
["Centricor forte",1,{"$f":"IFERROR(VLOOKUP(A22,'Services-Produits'!$A$1:$B$2000,2,FALSE),\"\")","v":11.7},11.7]
["Vitarubine",1,{"$f":"IFERROR(VLOOKUP(A23,'Services-Produits'!$A$1:$B$2000,2,FALSE),\"\")","v":25.5},25.5]
["Omnibiotic",1,{"$f":"IFERROR(VLOOKUP(A24,'Services-Produits'!$A$1:$B$2000,2,FALSE),\"\")","v":57.6},57.6]
["Erbasit",1,{"$f":"IFERROR(VLOOKUP(A25,'Services-Produits'!$A$1:$B$2000,2,FALSE),\"\")","v":30.9},30.9]
["Shoga Öl",2,{"$f":"IFERROR(VLOOKUP(A26,'Services-Produits'!$A$1:$B$2000,2,FALSE),\"\")","v":670},1340]
["Biotin",5,{"$f":"IFERROR(VLOOKUP(A27,'Services-Produits'!$A$1:$B$2000,2,FALSE),\"\")","v":37.25},186.25]
["Vit D3 Streuli",1,{"$f":"IFERROR(VLOOKUP(A28,'Services-Produits'!$A$1:$B$2000,2,FALSE),\"\")","v":26.3},26.3]
[null,null,{"$f":"IFERROR(VLOOKUP(A29,'Services-Produits'!$A$1:$B$2000,2,FALSE),\"\")","v":""},""]
[null,null,{"$f":"IFERROR(VLOOKUP(A30,'Services-Produits'!$A$1:$B$2000,2,FALSE),\"\")","v":""},""]
[null,null,{"$f":"IFERROR(VLOOKUP(A31,'Services-Produits'!$A$1:$B$2000,2,FALSE),\"\")","v":""},""]
[null,null,{"$f":"IFERROR(VLOOKUP(A32,'Services-Produits'!$A$1:$B$2000,2,FALSE),\"\")","v":""},""]
[null,null,{"$f":"IFERROR(VLOOKUP(A33,'Services-Produits'!$A$1:$B$2000,2,FALSE),\"\")","v":""},""]
[null,null,{"$f":"IFERROR(VLOOKUP(A34,'Services-Produits'!$A$1:$B$2000,2,FALSE),\"\")","v":""},""]
[null,null,{"$f":"IFERROR(VLOOKUP(A35,'Services-Produits'!$A$1:$B$2000,2,FALSE),\"\")","v":""},""]
[null,null,{"$f":"IFERROR(VLOOKUP(A36,'Services-Produits'!$A$1:$B$2000,2,FALSE),\"\")","v":""},""]
[null,null,{"$f":"IFERROR(VLOOKUP(A37,'Services-Produits'!$A$1:$B$2000,2,FALSE),\"\")","v":""},""]
["Total in CHF",null,null,{"$f":"SUM(D17:D37)","v":3643.8500000000004}]
[]
["Thank you very much for your trust!"]

{"sheet":"Agus Andriyanto","index":21,"n_rows":40,"n_cols":4,"rows_kept":40,"cut":false,"hidden":false,"merged":[]}
[]
[]
["Invoice: 55H-02411-GM13"]
["                  18.11.2024"]
[]
[]
[]
[]
["Mr. Agus Andriyanto"]
["Jakarta"]
["Indonesia"]
[]
[]
["Description","Qty","Price","Amount"]
["Patient: Agus Andriyanto, M, 16.02.1967"]
[]
["Gut Microbiome 2 transplants",1,{"$f":"IFERROR(VLOOKUP(A17,'Services-Produits'!$A$1:$B$2000,2,FALSE),\"\")","v":14399.5},{"$f":"IFERROR(B17*C17,\"\")","v":14399.5}]
["Mitochondrien Infusion",2,{"$f":"IFERROR(VLOOKUP(A18,'Services-Produits'!$A$1:$B$2000,2,FALSE),\"\")","v":428.7},{"$f":"IFERROR(B18*C18,\"\")","v":857.4}]
["Skin Emulsion Swiss Microbiome",3,{"$f":"IFERROR(VLOOKUP(A19,'Services-Produits'!$A$1:$B$2000,2,FALSE),\"\")","v":58.25},174.75]
["Vit D3 Streuli",3,{"$f":"IFERROR(VLOOKUP(A20,'Services-Produits'!$A$1:$B$2000,2,FALSE),\"\")","v":26.3},78.900000000000006]
["hADSC dispatch QTY 5.000.000 released 28.10.23",1,{"$f":"IFERROR(VLOOKUP(A21,'Services-Produits'!$A$1:$B$2000,2,FALSE),\"\")","v":4782.3},4782.3]
[null,null,{"$f":"IFERROR(VLOOKUP(A22,'Services-Produits'!$A$1:$B$2000,2,FALSE),\"\")","v":""},""]
[null,null,{"$f":"IFERROR(VLOOKUP(A23,'Services-Produits'!$A$1:$B$2000,2,FALSE),\"\")","v":""},""]
[null,null,{"$f":"IFERROR(VLOOKUP(A24,'Services-Produits'!$A$1:$B$2000,2,FALSE),\"\")","v":""},""]
[null,null,{"$f":"IFERROR(VLOOKUP(A25,'Services-Produits'!$A$1:$B$2000,2,FALSE),\"\")","v":""},""]
[null,null,{"$f":"IFERROR(VLOOKUP(A26,'Services-Produits'!$A$1:$B$2000,2,FALSE),\"\")","v":""},""]
[null,null,{"$f":"IFERROR(VLOOKUP(A27,'Services-Produits'!$A$1:$B$2000,2,FALSE),\"\")","v":""},""]
[null,null,{"$f":"IFERROR(VLOOKUP(A28,'Services-Produits'!$A$1:$B$2000,2,FALSE),\"\")","v":""},""]
[null,null,{"$f":"IFERROR(VLOOKUP(A29,'Services-Produits'!$A$1:$B$2000,2,FALSE),\"\")","v":""},""]
[null,null,{"$f":"IFERROR(VLOOKUP(A30,'Services-Produits'!$A$1:$B$2000,2,FALSE),\"\")","v":""},""]
[null,null,{"$f":"IFERROR(VLOOKUP(A31,'Services-Produits'!$A$1:$B$2000,2,FALSE),\"\")","v":""},""]
[null,null,{"$f":"IFERROR(VLOOKUP(A32,'Services-Produits'!$A$1:$B$2000,2,FALSE),\"\")","v":""},""]
[null,null,{"$f":"IFERROR(VLOOKUP(A33,'Services-Produits'!$A$1:$B$2000,2,FALSE),\"\")","v":""},""]
[null,null,{"$f":"IFERROR(VLOOKUP(A34,'Services-Produits'!$A$1:$B$2000,2,FALSE),\"\")","v":""},""]
[null,null,{"$f":"IFERROR(VLOOKUP(A35,'Services-Produits'!$A$1:$B$2000,2,FALSE),\"\")","v":""},""]
[null,null,{"$f":"IFERROR(VLOOKUP(A36,'Services-Produits'!$A$1:$B$2000,2,FALSE),\"\")","v":""},""]
[null,null,{"$f":"IFERROR(VLOOKUP(A37,'Services-Produits'!$A$1:$B$2000,2,FALSE),\"\")","v":""},""]
["Total in CHF",null,null,{"$f":"SUM(D17:D37)","v":20292.849999999999}]
[]
["Thank you very much for your trust!"]

{"sheet":"Erlin Diyanto Hong","index":22,"n_rows":41,"n_cols":4,"rows_kept":41,"cut":false,"hidden":false,"merged":[]}
[]
[]
["Invoice: 55H-02411-GM14"]
["                  18.11.2024"]
[]
[]
[]
[]
["Mrs. Erlin Diyanto Hong"]
["Jakarta"]
["Indonesia"]
[]
[]
["Description","Qty","Price","Amount"]
["Patient: Erlin Diyanto Hong, F, 20.11.1979"]
[]
["Omega 7",2,{"$f":"IFERROR(VLOOKUP(A17,'Services-Produits'!$A$1:$B$2000,2,FALSE),\"\")","v":82.6},{"$f":"IFERROR(B17*C17,\"\")","v":165.2}]
["Diabetische Polyneuropathie",2,{"$f":"IFERROR(VLOOKUP(A18,'Services-Produits'!$A$1:$B$2000,2,FALSE),\"\")","v":347.65},{"$f":"IFERROR(B18*C18,\"\")","v":695.3}]
["Vit D3 Streuli",1,{"$f":"IFERROR(VLOOKUP(A19,'Services-Produits'!$A$1:$B$2000,2,FALSE),\"\")","v":26.3},26.3]
["Gynofit",1,{"$f":"IFERROR(VLOOKUP(A20,'Services-Produits'!$A$1:$B$2000,2,FALSE),\"\")","v":29.35},29.35]
["Phenylalanine",3,{"$f":"IFERROR(VLOOKUP(A21,'Services-Produits'!$A$1:$B$2000,2,FALSE),\"\")","v":106.4},319.20000000000005]
["Wegovy 0.25 mg",1,{"$f":"IFERROR(VLOOKUP(A22,'Services-Produits'!$A$1:$B$2000,2,FALSE),\"\")","v":178.95},178.95]
["Curcumin 150 mg",3,{"$f":"IFERROR(VLOOKUP(A23,'Services-Produits'!$A$1:$B$2000,2,FALSE),\"\")","v":229.2},687.59999999999991]
["Antioxidant Infusion",2,{"$f":"IFERROR(VLOOKUP(A24,'Services-Produits'!$A$1:$B$2000,2,FALSE),\"\")","v":410},820]
["Hydroxiprolin 2 g",2,{"$f":"IFERROR(VLOOKUP(A25,'Services-Produits'!$A$1:$B$2000,2,FALSE),\"\")","v":68.900000000000006},137.80000000000001]
["L-Carnitin",1,{"$f":"IFERROR(VLOOKUP(A26,'Services-Produits'!$A$1:$B$2000,2,FALSE),\"\")","v":21.15},21.15]
[null,null,{"$f":"IFERROR(VLOOKUP(A27,'Services-Produits'!$A$1:$B$2000,2,FALSE),\"\")","v":""},""]
[null,null,{"$f":"IFERROR(VLOOKUP(A28,'Services-Produits'!$A$1:$B$2000,2,FALSE),\"\")","v":""},""]
["Skin Emulsion SM",2,{"$f":"IFERROR(VLOOKUP(A29,'Services-Produits'!$A$1:$B$2000,2,FALSE),\"\")","v":1039500},2079000]
["Skin Serum SM",2,{"$f":"IFERROR(VLOOKUP(A30,'Services-Produits'!$A$1:$B$2000,2,FALSE),\"\")","v":1365000},2730000]
["Rich Lotion SM",2,{"$f":"IFERROR(VLOOKUP(A31,'Services-Produits'!$A$1:$B$2000,2,FALSE),\"\")","v":1228500},2457000]
[null,null,{"$f":"IFERROR(VLOOKUP(A32,'Services-Produits'!$A$1:$B$2000,2,FALSE),\"\")","v":""},""]
[null,null,{"$f":"IFERROR(VLOOKUP(A33,'Services-Produits'!$A$1:$B$2000,2,FALSE),\"\")","v":""},""]
[null,null,{"$f":"IFERROR(VLOOKUP(A34,'Services-Produits'!$A$1:$B$2000,2,FALSE),\"\")","v":""},""]
[null,null,{"$f":"IFERROR(VLOOKUP(A35,'Services-Produits'!$A$1:$B$2000,2,FALSE),\"\")","v":""},""]
[null,null,{"$f":"IFERROR(VLOOKUP(A36,'Services-Produits'!$A$1:$B$2000,2,FALSE),\"\")","v":""},""]
[null,null,{"$f":"IFERROR(VLOOKUP(A37,'Services-Produits'!$A$1:$B$2000,2,FALSE),\"\")","v":""},""]
["Total in CHF",null,null,{"$f":"SUM(D17:D26)","v":3080.85}]
["Total in IDR",null,null,{"$f":"SUM(D29:D31)","v":7266000}]
[]
["Thank you very much for your trust!"]

{"sheet":"Aqung Yadha Adhi Nuqraha","index":23,"n_rows":40,"n_cols":4,"rows_kept":40,"cut":false,"hidden":false,"merged":[]}
[]
[]
["Invoice: 55H-02411-GM15"]
["                  18.11.2024"]
[]
[]
[]
[]
["Mr. Agung Yadha Adhi Nuqraha"]
["Jakarta"]
["Indonesia"]
[]
[]
["Description","Qty","Price","Amount"]
["Patient: Agung Yadha Adhi Nuqraha, M, 29.06.1981"]
[]
["Rhodiola",1,{"$f":"IFERROR(VLOOKUP(A17,'Services-Produits'!$A$1:$B$2000,2,FALSE),\"\")","v":33.450000000000003},{"$f":"IFERROR(B17*C17,\"\")","v":33.450000000000003}]
["ADEK",1,{"$f":"IFERROR(VLOOKUP(A18,'Services-Produits'!$A$1:$B$2000,2,FALSE),\"\")","v":37.6},{"$f":"IFERROR(B18*C18,\"\")","v":37.6}]
["NAD+",1,{"$f":"IFERROR(VLOOKUP(A19,'Services-Produits'!$A$1:$B$2000,2,FALSE),\"\")","v":""},""]
["Antioxidant Infusion",1,{"$f":"IFERROR(VLOOKUP(A20,'Services-Produits'!$A$1:$B$2000,2,FALSE),\"\")","v":410},410]
["Mitochondrien Infusion",1,{"$f":"IFERROR(VLOOKUP(A21,'Services-Produits'!$A$1:$B$2000,2,FALSE),\"\")","v":428.7},428.7]
["Skin Serum Swiss Microbiome",4,{"$f":"IFERROR(VLOOKUP(A22,'Services-Produits'!$A$1:$B$2000,2,FALSE),\"\")","v":76.5},306]
["Skin Emulsion Swiss Microbiome",2,{"$f":"IFERROR(VLOOKUP(A23,'Services-Produits'!$A$1:$B$2000,2,FALSE),\"\")","v":58.25},116.5]
["Rich Lotion Swiss Microbiome",2,{"$f":"IFERROR(VLOOKUP(A24,'Services-Produits'!$A$1:$B$2000,2,FALSE),\"\")","v":68.849999999999994},137.69999999999999]
[null,null,{"$f":"IFERROR(VLOOKUP(A25,'Services-Produits'!$A$1:$B$2000,2,FALSE),\"\")","v":""},""]
[null,null,{"$f":"IFERROR(VLOOKUP(A26,'Services-Produits'!$A$1:$B$2000,2,FALSE),\"\")","v":""},""]
[null,null,{"$f":"IFERROR(VLOOKUP(A27,'Services-Produits'!$A$1:$B$2000,2,FALSE),\"\")","v":""},""]
[null,null,{"$f":"IFERROR(VLOOKUP(A28,'Services-Produits'!$A$1:$B$2000,2,FALSE),\"\")","v":""},""]
[null,null,{"$f":"IFERROR(VLOOKUP(A29,'Services-Produits'!$A$1:$B$2000,2,FALSE),\"\")","v":""},""]
[null,null,{"$f":"IFERROR(VLOOKUP(A30,'Services-Produits'!$A$1:$B$2000,2,FALSE),\"\")","v":""},""]
[null,null,{"$f":"IFERROR(VLOOKUP(A31,'Services-Produits'!$A$1:$B$2000,2,FALSE),\"\")","v":""},""]
[null,null,{"$f":"IFERROR(VLOOKUP(A32,'Services-Produits'!$A$1:$B$2000,2,FALSE),\"\")","v":""},""]
[null,null,{"$f":"IFERROR(VLOOKUP(A33,'Services-Produits'!$A$1:$B$2000,2,FALSE),\"\")","v":""},""]
[null,null,{"$f":"IFERROR(VLOOKUP(A34,'Services-Produits'!$A$1:$B$2000,2,FALSE),\"\")","v":""},""]
[null,null,{"$f":"IFERROR(VLOOKUP(A35,'Services-Produits'!$A$1:$B$2000,2,FALSE),\"\")","v":""},""]
[null,null,{"$f":"IFERROR(VLOOKUP(A36,'Services-Produits'!$A$1:$B$2000,2,FALSE),\"\")","v":""},""]
[null,null,{"$f":"IFERROR(VLOOKUP(A37,'Services-Produits'!$A$1:$B$2000,2,FALSE),\"\")","v":""},""]
["Total in CHF",null,null,{"$f":"SUM(D17:D37)","v":1469.95}]
[]
["Thank you very much for your trust!"]

{"sheet":"ReferenceSBL","index":24,"n_rows":40,"n_cols":4,"rows_kept":40,"cut":false,"hidden":false,"merged":[]}
[]
[]
["Invoice: 55H-02411-GM02"]
["                  18.11.2024"]
[]
[]
[]
[]
[]
["Mrs. Yenni Rista"]
["Jakarta"]
["Indonesia"]
[]
["Description","Qty","Price","Amount"]
["Patient: Yenni Rista, F, 18.07.1958"]
[]
[null,null,{"$f":"IFERROR(VLOOKUP(A17,'Services-Produits'!$A$1:$B$2000,2,FALSE),\"\")","v":""},{"$f":"IFERROR(B17*C17,\"\")","v":""}]
[null,null,{"$f":"IFERROR(VLOOKUP(A18,'Services-Produits'!$A$1:$B$2000,2,FALSE),\"\")","v":""},{"$f":"IFERROR(B18*C18,\"\")","v":""}]
[null,null,{"$f":"IFERROR(VLOOKUP(A19,'Services-Produits'!$A$1:$B$2000,2,FALSE),\"\")","v":""},""]
[null,null,{"$f":"IFERROR(VLOOKUP(A20,'Services-Produits'!$A$1:$B$2000,2,FALSE),\"\")","v":""},""]
[null,null,{"$f":"IFERROR(VLOOKUP(A21,'Services-Produits'!$A$1:$B$2000,2,FALSE),\"\")","v":""},""]
[null,null,{"$f":"IFERROR(VLOOKUP(A22,'Services-Produits'!$A$1:$B$2000,2,FALSE),\"\")","v":""},""]
[null,null,{"$f":"IFERROR(VLOOKUP(A23,'Services-Produits'!$A$1:$B$2000,2,FALSE),\"\")","v":""},""]
[null,null,{"$f":"IFERROR(VLOOKUP(A24,'Services-Produits'!$A$1:$B$2000,2,FALSE),\"\")","v":""},""]
[null,null,{"$f":"IFERROR(VLOOKUP(A25,'Services-Produits'!$A$1:$B$2000,2,FALSE),\"\")","v":""},""]
[null,null,{"$f":"IFERROR(VLOOKUP(A26,'Services-Produits'!$A$1:$B$2000,2,FALSE),\"\")","v":""},""]
[null,null,{"$f":"IFERROR(VLOOKUP(A27,'Services-Produits'!$A$1:$B$2000,2,FALSE),\"\")","v":""},""]
[null,null,{"$f":"IFERROR(VLOOKUP(A28,'Services-Produits'!$A$1:$B$2000,2,FALSE),\"\")","v":""},""]
[null,null,{"$f":"IFERROR(VLOOKUP(A29,'Services-Produits'!$A$1:$B$2000,2,FALSE),\"\")","v":""},""]
[null,null,{"$f":"IFERROR(VLOOKUP(A30,'Services-Produits'!$A$1:$B$2000,2,FALSE),\"\")","v":""},""]
[null,null,{"$f":"IFERROR(VLOOKUP(A31,'Services-Produits'!$A$1:$B$2000,2,FALSE),\"\")","v":""},""]
[null,null,{"$f":"IFERROR(VLOOKUP(A32,'Services-Produits'!$A$1:$B$2000,2,FALSE),\"\")","v":""},""]
[null,null,{"$f":"IFERROR(VLOOKUP(A33,'Services-Produits'!$A$1:$B$2000,2,FALSE),\"\")","v":""},""]
[null,null,{"$f":"IFERROR(VLOOKUP(A34,'Services-Produits'!$A$1:$B$2000,2,FALSE),\"\")","v":""},""]
[null,null,{"$f":"IFERROR(VLOOKUP(A35,'Services-Produits'!$A$1:$B$2000,2,FALSE),\"\")","v":""},""]
[null,null,{"$f":"IFERROR(VLOOKUP(A36,'Services-Produits'!$A$1:$B$2000,2,FALSE),\"\")","v":""},""]
[null,null,{"$f":"IFERROR(VLOOKUP(A37,'Services-Produits'!$A$1:$B$2000,2,FALSE),\"\")","v":""},""]
["Total in CHF",null,null,{"$f":"SUM(D17:D37)","v":0}]
[]
["Thank you very much for your trust!"]

{"sheet":"Services-Produits","index":25,"n_rows":228,"n_cols":3,"rows_kept":228,"cut":false,"hidden":false,"merged":[]}
["Produit","Price","Old price"]
[" Respiphage",419.5]
["Abbott Freestyle 2",91.4]
["Abbott Sensor",65.3]
["ADEK",37.6]
["Ampuwa 10 ml",0]
["Anesthesie"]
["Antioxidant Infusion",410]
["Antioxidant Mix",410]
["Artesunat",67.2]
["Bactoflor",69.8]
["Beloc Zok 25 mg",16.5]
["Bioflorin",18.350000000000001]
["Biotin",37.25]
["Biotin + NaCl",37.25]
["B-Kompleks",46.8]
["Black cumin capsules",34.799999999999997]
["Bosvene Akba",215.11]
["Brain Mapping",2148]
["Calcium gluconat",22.6]
["Cell banking 10 years"]
["Centricor forte",11.7]
["Cerebrolysin 10 ml",99.6]
["Cerebrolysin 10 ml",99.6]
["Cerebrolysin 5 ml",63.8]
["Cholin Inject",43]
["C-Intercell 650 mg Vitamin C, 90 Kapseln",27.99]
["Consultation",1800]
["Consultation & Report Complimentary",0]
["Consultation Complimentary",0]
["Creon 25000",111.75]
["Curcumin + NaCl 0,9%",116.22]
["Curcumin 150 mg",229.2]
["Curcumin 75 mg",116.22]
["Cyspera",168]
["Darmflorin",25.45]
["DCA",57]
["Deposit for medical treatment",32215,70000]
["Diabetische Polyneuropathie",347.65]
["Discount 15%"]
["Dr. Markus Puetz 29.05.24 - 31.05.24",505.7]
["Dr. Roger Gmuer 20.09.24",965.55]
["Dr. Roland Backhaus"]
["EEG & EKG",1860]
["E-Inject",41.2]
["Epinativ Injection",133.61000000000001]
["Epinative",275.39999999999998]
["Erbasit",30.9]
["Face treatment Chin contouring",600]
["Facial contouring"]
["Faktu",8.6999999999999993]
["Famotidin",57.2]
["Fermanose",46.2]
["Fetusan",42.75]
["Fiber-Intercell",40.49]
["Flatulex",8.85]
["Full check up & screening ",1870]
["Full check up & screening, vascular, heart, thyroid & abdomen",2380]
["Full check up & screening, vascular, heart, thyroid, brain mapping & Abdomen",2148]
["Full check ups",1870]
["Full check ups & screenings",1870]
["Gedächtnis Infusion",378]
["Genetik test",2686.5]
["Glutathion red. Injekt",62]
["Gut Microbiome - 1 transplants",7199.75]
["Gut Microbiome 2 transplants",14399.5]
["Gut Microbiome 3 transplants",21599.25]
["Gut Microbiome 4 transplants",28799]
["Gut Microbiome Therapy",6912.5]
["Gynecology treatment 30.05.24 - 17.06.24",1972.15]
["Gynofit",29.35]
["Gynophilus",19.8]
["Gynopholus",19.7]
["Gynophylus",19.8]
["hADSC cell released QTY 5.000.000 released 28.10.23"]
["hADSC dispatch QTY 5.000.000 released 28.10.23",4782.3]
["hADSC processing"]
["Hair & organ rejuvenation"]
["Hepar",43.7]
["Hydroxiprolin 2 g",68.900000000000006]
["Hypericin 5 mg",218.8,198.7]
["Iberogast",22.2]
["Immun Akut",66.25]
["Immunocare",220]
["Immunocare personalised Budi Gunawan 4 months",1207.3499999999999]
["Immunocare personalised Sudarti 4 months",1108.6500000000001]
["Immunocare, personalised",195.7]
["Infraorbital",600]
["Infusion: Curcumin 75 mg",116.22]
["Infusion: Nicotiamide",179.8]
["Infusions"]
["Jantung (Herz)",584.5]
["K2 & D3",34.700000000000003]
["Kantong kemih (Harnblase)",381.35]
["Kiki Redjeki Treatment by Dr. Markus Pütz",505.7]
["Laetia",45.3]
["L-Carnitin",21.15]
["Lipoaspiration"]
["Liserotota",345.3]
["Liv 52",14.9]
["Liver Detox Liv.52",21]
["Lubex 150 ml",11.65]
["Lubex 500 ml",29.55]
["Magentropfen",23]
["Magnesium",39.1,25.45]
["Magnesium 1000 mg",34.68]
["Magnesium Intercell",15.1]
["Memoserin 90 Kapseln",67.7]
["Microbiome",74.95]
["Microbiome body lotion",29.9]
["Microbiome therapy 2 transplants",7199.75]
["Microcare 4 months",571.04999999999995]
["Microcare immuno strong",280]
["Microcare personalised",799.4]
["Microniome face serum",69.900000000000006]
["Mitochondrien",428.7]
["Mitochondrien Infusion",428.7]
["Mitochondrien Mix Infusion",428.7]
["Muskulatur (Otot)",286.39999999999998]
["NAD+ 125 mg",219.66]
["Neuro Amino",87.5,163.19999999999999]
["Neuropathy",347.65]
["Nicotiamide",47]
["Nicotinamide",47,179.8]
["NMN, Rapamune, Sildenafil & Tadalafil",67.8]
["Oliphenolia",183.51]
["Oliphenolia + NaCl 0,9% 150 ml",183.51]
["Omega 3",58.3,51.9]
["Omega 7",82.6]
["Omega 7.0",81.349999999999994]
["Omnibiotic",57.6]
["Oregano oil",21.4]
["Otak kecil (Kleinhirn)",288]
["Ozempic",120.5,129.80000000000001]
["Pantoprazol",17.5]
["Phago PYO",119.5]
["Phago SES",119.5]
["Phenylalanine",106.4]
["Phospolipide",31.28]
["Plavix",93.7]
["Polineurophathy",347.65]
["Prodigest",72.349999999999994]
["Protokol Lösung 1 Infusion",79]
["PRP"]
["Q10 i.v. sensitive",178.8]
["Raab Flohsamen",14.85]
["Reservatrol + NaCl 0,9% 300 ml",178]
["Resveratrol",178]
["Rhodiola",33.450000000000003]
["Riboflavin",127.4]
["Rich Lotion SM",1228500]
["Rich Lotion Swiss Microbiome",68.849999999999994]
["Riopan",32.4]
["RNA",516.70000000000005]
["RNA Auge",384.45]
["RNA Heart",584.5,516.70000000000005]
["RNA Hepar",374.8]
["RNA Injections 4 vials",516.70000000000005]
["RNA Lunge",381.2]
["RNA Retina",417]
["RNA Thymus",185.7,516.70000000000005]
["Salvans",13.05]
["Schwarzkümmel",39]
["Screenings Vascular, heart, thyroid & Abdomen",2870]
["Selenase",175]
["Selenium",20.28,41.6]
["Senolytics mixture",670]
["Senolytics Mixture",670]
["Shipping",41.35]
["Shoga Öl",670]
["Skin Emulsion SM",1039500]
["Skin Emulsion Swiss Microbiome",58.25]
["Skin Serum SM",1365000]
["Skin Serum Swiss Microbiome",76.5]
["Spermidin",182.35]
["SSCells Biotech released - 8 Syringes",9748]
["Stem cell treatment",49370]
["Stemcell "]
["Sulgan",26.7]
["SVF transplant"]
["Tadalafil-Mepha 10 mg",115]
["Tadalafil-Mepha 2.5 mg",115]
["Tadalafil-Mepha 5 mg",115]
["Tambocor 100 mg",55.75]
["Tamsulosin Retard",59.58]
["Taurin 2g",21.7]
["Testicle ",372.45]
["Thymus",516.70000000000005]
["USG: Vascular, Thyroid & Abdomen ",1480]
["USZ"]
["Vascular, Heart, Thyroid & Abdomen",2380]
["Ventrisana",19.2]
["Vistabel 3 zones",750]
["Vit B12",10]
["Vit B12 Zentivu",25.5]
["Vit C",42.7,27.99]
["Vit C Burg Apotheke",23.5]
["Vit C Streuli",30.4]
["Vit D3",37]
["Vit D3",29.8]
["Vit D3 Streuli",26.3]
["Vit E Inject I.M."]
["Vit, B Komplex",46.8]
["Vit. C, Zn",21.4]
["Vit. E IM"]
["Vitamin B12 Amino",15]
["Vitamin C",27.99]
["Vitamin C Streuli",21.6]
["Vitamin D3 Intercell",19.8]
["Vitarubine",25.5]
["Vit-C Intercell",26.99,27.99]
["Wegovy 0.25 mg",178.95,188.15]
["Wegovy 0.5mg",178.95,188.15]
["Xanax",42.7]
["Xanax 1 mg",25.15]
["Xanax 2 mg",42.75]
["Xanax 2 mg retard",51.75]
["Zentra inject",60]
["Zn Intercell",20.74]
["Deposit stem cell therapy",41000]
["Prostagutt Uno",49.9]
["Supplement",162.72]
["Complemedis",74.2]
["Xanax 2 mg 30 tablets",25.25]
["Payment received"]
["NAD+ 62.5 mg",137.19999999999999]
["Glucosamin",44.2]
["Vit B kompleks"]

{"sheet":"Reference","index":26,"n_rows":40,"n_cols":4,"rows_kept":40,"cut":false,"hidden":false,"merged":[]}
[]
[]
["Invoice: 55H-02411-GM04"]
["                  20.12.2024"]
[]
[]
[]
[]
[]
[]
[]
[]
[]
["Description","Qty","Price","Amount"]
[]
[]
[null,null,{"$f":"IFERROR(VLOOKUP(A17,'Services-Produits'!$A$1:$B$2000,2,FALSE),\"\")","v":""},{"$f":"IFERROR(B17*C17,\"\")","v":""}]
[null,null,{"$f":"IFERROR(VLOOKUP(A18,'Services-Produits'!$A$1:$B$2000,2,FALSE),\"\")","v":""},{"$f":"IFERROR(B18*C18,\"\")","v":""}]
[null,null,{"$f":"IFERROR(VLOOKUP(A19,'Services-Produits'!$A$1:$B$2000,2,FALSE),\"\")","v":""},""]
[null,null,{"$f":"IFERROR(VLOOKUP(A20,'Services-Produits'!$A$1:$B$2000,2,FALSE),\"\")","v":""},""]
[null,null,{"$f":"IFERROR(VLOOKUP(A21,'Services-Produits'!$A$1:$B$2000,2,FALSE),\"\")","v":""},""]
[null,null,{"$f":"IFERROR(VLOOKUP(A22,'Services-Produits'!$A$1:$B$2000,2,FALSE),\"\")","v":""},""]
[null,null,{"$f":"IFERROR(VLOOKUP(A23,'Services-Produits'!$A$1:$B$2000,2,FALSE),\"\")","v":""},""]
[null,null,{"$f":"IFERROR(VLOOKUP(A24,'Services-Produits'!$A$1:$B$2000,2,FALSE),\"\")","v":""},""]
[null,null,{"$f":"IFERROR(VLOOKUP(A25,'Services-Produits'!$A$1:$B$2000,2,FALSE),\"\")","v":""},""]
[null,null,{"$f":"IFERROR(VLOOKUP(A26,'Services-Produits'!$A$1:$B$2000,2,FALSE),\"\")","v":""},""]
[null,null,{"$f":"IFERROR(VLOOKUP(A27,'Services-Produits'!$A$1:$B$2000,2,FALSE),\"\")","v":""},""]
[null,null,{"$f":"IFERROR(VLOOKUP(A28,'Services-Produits'!$A$1:$B$2000,2,FALSE),\"\")","v":""},""]
[null,null,{"$f":"IFERROR(VLOOKUP(A29,'Services-Produits'!$A$1:$B$2000,2,FALSE),\"\")","v":""},""]
[null,null,{"$f":"IFERROR(VLOOKUP(A30,'Services-Produits'!$A$1:$B$2000,2,FALSE),\"\")","v":""},""]
[null,null,{"$f":"IFERROR(VLOOKUP(A31,'Services-Produits'!$A$1:$B$2000,2,FALSE),\"\")","v":""},""]
[null,null,{"$f":"IFERROR(VLOOKUP(A32,'Services-Produits'!$A$1:$B$2000,2,FALSE),\"\")","v":""},""]
[null,null,{"$f":"IFERROR(VLOOKUP(A33,'Services-Produits'!$A$1:$B$2000,2,FALSE),\"\")","v":""},""]
[null,null,{"$f":"IFERROR(VLOOKUP(A34,'Services-Produits'!$A$1:$B$2000,2,FALSE),\"\")","v":""},""]
[null,null,{"$f":"IFERROR(VLOOKUP(A35,'Services-Produits'!$A$1:$B$2000,2,FALSE),\"\")","v":""},""]
[null,null,{"$f":"IFERROR(VLOOKUP(A36,'Services-Produits'!$A$1:$B$2000,2,FALSE),\"\")","v":""},""]
[null,null,{"$f":"IFERROR(VLOOKUP(A37,'Services-Produits'!$A$1:$B$2000,2,FALSE),\"\")","v":""},""]
["Total in CHF",null,null,{"$f":"SUM(D17:D37)","v":0}]
[]
["Thank you very much for your trust!"]

{"sheet":"Patients","index":27,"n_rows":72,"n_cols":13,"rows_kept":72,"cut":false,"hidden":false,"merged":[]}
["Nom","Adresse","CP","Ville","Pays","Sexe","Date Naissance","Entreprise"]
["Aboe Bakar",null,null,"Jakarta","Indonesia","M","1969-10-15","SM"]
["Adex Yudiswan",null,null,"Jakarta","Indonesia","M","1974-12-03","SM"]
["Adex Yudiswan",null,null,"Jakarta","Indonesia","M","1974-12-01","SM",null,null,null,"Discount5",-0.05]
["Agus Andriyanto",null,null,"Jakarta","Indonesia","M","1967-02-16","SM",null,null,null,"Discount10",-0.1]
["Almahyra Cyrilla Sastroisvara",null,null,"Jakarta","Indonesia","F",null,null,null,null,null,"Discount15",-0.15]
["Andrea Wulandari Iravan",null,null,"Jakarta","Indonesia","F","1995-08-07","N",null,null,null,"Discount20",-0.2]
["Agung Yadha Adhi Nuqraha",null,null,"Jakarta","Indonesia","M","1981-06-29","SM",null,null,null,"Discount25",-0.25]
["Armand Wahyudi Hartono",null,null,"Jakarta","Indonesia","M","1975-05-20","SM",null,null,null,"Discount30",-0.3]
["Budi Satrio",null,null,"Jakarta","Indonesia","M","1976-05-31","SBL",null,null,null,"Discount35",-0.35]
["Chan Choi Moi",null,null,"Jakarta","Indonesia","F","1972-04-28","SM",null,null,null,"Discount40",-0.4]
["Darmo Pranoto Soenjoto",null,null,"Jakarta","Indonesia","M","1946-06-20","N",null,null,null,"Discount45",-0.45]
["Deddy Prasetyo",null,null,"Jakarta","Indonesia","M","1968-07-26","SM",null,null,null,"Discount50",-0.5]
["Dian Siswarini",null,null,"Jakarta","Indonesia","F","1968-05-05","SM",null,null,null,"Discount55",-0.55000000000000004]
["Dian Suri Iriani",null,null,"Jakarta","Indonesia","F","1979-08-02","SBL",null,null,null,"Discount60",-0.6]
["Dobias Iskandar",null,null,"Jakarta","Indonesia","M","1965-11-16","SM",null,null,null,"Discount65",-0.65]
["Doni Irawan Soenarso",null,null,"Jakarta","Indonesia","M","1957-07-11","SM",null,null,null,"Discount70",-0.7]
["Dr. Putri Kusuma",null,null,"Jakarta","Indonesia","F","1969-01-07","SM",null,null,null,"Discount75",-0.75]
["Eileen Patricia Hartono",null,null,"Jakarta","Indonesia","F","1973-05-01","SBL",null,null,null,"Discount80",-0.8]
["Erlin Diyanto Hong",null,null,"Jakarta","Indonesia","F","1979-11-20","SM",null,null,null,"Discount85",-0.85]
["Erminda Melayeni",null,null,"Jakarta","Indonesia","F","1975-10-25","SM",null,null,null,"Discount90",-0.9]
["Escy Soeleiman",null,null,"Jakarta","Indonesia","F","1965-12-09","SBL",null,null,null,"Discount95",-0.95]
["Evy Celiyanti",null,null,"Jakarta","Indonesia","F","1972-03-07","SM"]
["Fajar Hadi Prabowo",null,null,"Jakarta","Indonesia","M","1989-11-14","N"]
["Herly Julianti",null,null,"Jakarta","Indonesia","M","1975-07-01","SM"]
["Herman Herry Adranacus",null,null,"Jakarta","Indonesia","M","1962-11-26","SM"]
["Isandi Harahap",null,null,"Jakarta","Indonesia","M","1958-12-10","SBL"]
["Ita Yuliati",null,null,"Jakarta","Indonesia","F","1969-01-07","SM"]
["Jessica Cicilia Sadikin",null,null,"Jakarta","Indonesia","F"]
["Karyoto",null,null,"Jakarta","Indonesia","M","1968-10-27","SBL"]
["Kiki Redjeki",null,null,"Jakarta","Indonesia","F"]
["Laksmita Artha Widja",null,null,"Jakarta","Indonesia","F","1990-03-03","SM"]
["Lina Iskandar",null,null,"Jakarta","Indonesia","F","1970-06-25","SBL"]
["Listiana Handajani",null,null,"Jakarta","Indonesia","F","1954-04-26","N"]
["Maike Yolanda Fiancisca",null,null,"Jakarta","Indonesia","F","1959-02-09","SM"]
["Martha Dwi Maryani",null,null,"Jakarta","Indonesia","F","1969-05-21","SM"]
["Mochamad Iriawan",null,null,"Jakarta","Indonesia","M",null,"SM"]
["Muhamad Mardiono",null,null,"Jakarta","Indonesia","M","1957-07-11","SM"]
["Muhamad Mardiono",null,null,"Jakarta","Indonesia","M","1957-07-11","SM"]
["Muljadi Tjahjono",null,null,"Jakarta","Indonesia","M","1965-01-22","SM"]
["Murat Ismael",null,null,"Jakarta","Indonesia","M","1961-09-11","N","2024-06-26"]
["Nonda Nellyana Djaja",null,null,"Jakarta","Indonesia","F","1948-01-12","SM"]
["Novita Ariya",null,null,"Jakarta","Indonesia","F",null,"SM"]
["Nyoman Adhi Suryadnyana",null,null,"Jakarta","Indonesia","M","1974-10-15","SBL"]
["Ong Hang Ling",null,null,"Jakarta","Indonesia","M","1938-12-12","N"]
["Peter Pramana",null,null,"Jakarta","Indonesia","M","1974-08-10","N"]
["Pierre Boeschlin",null,null,"Jakarta","Indonesia","M"]
["Prodjo Handajo Sunjoto",null,null,"Jakarta","Indonesia","M","1941-08-17","SM"]
["Putri Kusuma Mardiono",null,null,"Jakarta","Indonesia","F","1969-01-07","N"]
["Romyus Permana",null,null,"Jakarta","Indonesia","M","1978-10-20","SBL"]
["Salim Lan Jaya Liem",null,null,"Jakarta","Indonesia","M","1971-06-01","SM"]
["Sambodo Purnomo",null,null,"Jakarta","Indonesia","M","1973-07-03","SM"]
["Samuel Bob",null,null,"Jakarta","Indonesia","M","1974-01-04","SM"]
["Samuel Rusli",null,null,"Jakarta","Indonesia","M","1968-04-01","SM"]
["Shanti Tan",null,null,"Jakarta","Indonesia","F","1978-09-10","SBL"]
["Shu Shu",null,null,"Jakarta","Indonesia","F",null,"SBL"]
["Sri Wahyuswinta",null,null,"Jakarta","Indonesia","F","1969-04-04","SM"]
["Suryadi Jakin",null,null,"Jakarta","Indonesia","M","1947-04-04","SM"]
["Tan Kim Siong",null,null,"Jakarta","Indonesia","M","1970-11-09","SM"]
["Tan Siew Chang",null,null,"Jakarta","Indonesia","F","1967-01-13","SM"]
["Thiha Aung",null,null,"Jakarta","Indonesia","M","1974-09-19","SM"]
["Titi Salim",null,null,"Jakarta","Indonesia","M","1971-06-01","SBL"]
["Tommy Yakin",null,null,"Jakarta","Indonesia","M","1988-12-07","SM"]
["Vino Romano",null,null,"Jakarta","Indonesia","M","1988-11-11","SM"]
["Wahyu Hadiningrat",null,null,"Jakarta","Indonesia","M","1974-05-06","N"]
["Wahyu Widada",null,null,"Jakarta","Indonesia","M","1969-09-11","SM"]
["Wisnu Hermawan",null,null,"Jakarta","Indonesia","M","1972-02-16","SM"]
["Yenni Rista",null,null,"Jakarta","Indonesia","F","1958-07-18","SM"]
["Yenny Wijaya",null,null,"Jakarta","Indonesia","F","1973-03-16","SM"]
["Yuldi Yusman",null,null,"Jakarta","Indonesia","M","1975-07-29","SM"]
["Yulia Gunawan",null,null,"Jakarta","Indonesia","F","1983-01-06","SM"]
["Rizal",null,null,"Jakarta","Indonesia"]

{"sheet":"Reference2p","index":28,"n_rows":41,"n_cols":8,"rows_kept":41,"cut":false,"hidden":false,"merged":[]}
[]
[]
["Invoice: 55H-02406-GM11"]
["                  04.07.2024"]
[null,null,"Treatment by",null,"Description","Qty","Price","Amount"]
[null,null,"Dr. Roland Backhaus"]
[]
[null,null,null,null,null,null,{"$f":"IFERROR(VLOOKUP(E8,'Services-Produits'!$A$1:$B$2000,2,FALSE),\"\")","v":""},{"$f":"IFERROR(F8*G8,\"\")","v":""}]
[null,null,null,null,null,null,{"$f":"IFERROR(VLOOKUP(E9,'Services-Produits'!$A$1:$B$2000,2,FALSE),\"\")","v":""},{"$f":"IFERROR(F9*G9,\"\")","v":""}]
[null,null,null,null,null,null,{"$f":"IFERROR(VLOOKUP(E10,'Services-Produits'!$A$1:$B$2000,2,FALSE),\"\")","v":""},""]
[null,null,null,null,null,null,{"$f":"IFERROR(VLOOKUP(E11,'Services-Produits'!$A$1:$B$2000,2,FALSE),\"\")","v":""},""]
[null,null,null,null,null,null,{"$f":"IFERROR(VLOOKUP(E12,'Services-Produits'!$A$1:$B$2000,2,FALSE),\"\")","v":""},""]
[null,null,null,null,null,null,{"$f":"IFERROR(VLOOKUP(E13,'Services-Produits'!$A$1:$B$2000,2,FALSE),\"\")","v":""},""]
["Description","Qty","Price","Amount",null,null,{"$f":"IFERROR(VLOOKUP(E14,'Services-Produits'!$A$1:$B$2000,2,FALSE),\"\")","v":""},""]
[null,null,null,null,null,null,{"$f":"IFERROR(VLOOKUP(E15,'Services-Produits'!$A$1:$B$2000,2,FALSE),\"\")","v":""},""]
[null,null,null,null,null,null,{"$f":"IFERROR(VLOOKUP(E16,'Services-Produits'!$A$1:$B$2000,2,FALSE),\"\")","v":""},""]
[null,null,{"$f":"IFERROR(VLOOKUP(A17,'Services-Produits'!$A$1:$B$2000,2,FALSE),\"\")","v":""},{"$f":"IFERROR(B17*C17,\"\")","v":""},null,null,{"$f":"IFERROR(VLOOKUP(E17,'Services-Produits'!$A$1:$B$2000,2,FALSE),\"\")","v":""},""]
[null,null,{"$f":"IFERROR(VLOOKUP(A18,'Services-Produits'!$A$1:$B$2000,2,FALSE),\"\")","v":""},{"$f":"IFERROR(B18*C18,\"\")","v":""},null,null,{"$f":"IFERROR(VLOOKUP(E18,'Services-Produits'!$A$1:$B$2000,2,FALSE),\"\")","v":""},""]
[null,null,{"$f":"IFERROR(VLOOKUP(A19,'Services-Produits'!$A$1:$B$2000,2,FALSE),\"\")","v":""},"",null,null,{"$f":"IFERROR(VLOOKUP(E19,'Services-Produits'!$A$1:$B$2000,2,FALSE),\"\")","v":""},""]
[null,null,{"$f":"IFERROR(VLOOKUP(A20,'Services-Produits'!$A$1:$B$2000,2,FALSE),\"\")","v":""},"",null,null,{"$f":"IFERROR(VLOOKUP(E20,'Services-Produits'!$A$1:$B$2000,2,FALSE),\"\")","v":""},{"$f":"IFERROR(F20*G20,\"\")","v":""}]
[null,null,{"$f":"IFERROR(VLOOKUP(A21,'Services-Produits'!$A$1:$B$2000,2,FALSE),\"\")","v":""},"",null,null,{"$f":"IFERROR(VLOOKUP(E21,'Services-Produits'!$A$1:$B$2000,2,FALSE),\"\")","v":""},""]
[null,null,{"$f":"IFERROR(VLOOKUP(A22,'Services-Produits'!$A$1:$B$2000,2,FALSE),\"\")","v":""},"",null,null,{"$f":"IFERROR(VLOOKUP(E22,'Services-Produits'!$A$1:$B$2000,2,FALSE),\"\")","v":""},""]
[null,null,{"$f":"IFERROR(VLOOKUP(A23,'Services-Produits'!$A$1:$B$2000,2,FALSE),\"\")","v":""},"",null,null,{"$f":"IFERROR(VLOOKUP(E23,'Services-Produits'!$A$1:$B$2000,2,FALSE),\"\")","v":""},""]
[null,null,{"$f":"IFERROR(VLOOKUP(A24,'Services-Produits'!$A$1:$B$2000,2,FALSE),\"\")","v":""},"",null,null,{"$f":"IFERROR(VLOOKUP(E24,'Services-Produits'!$A$1:$B$2000,2,FALSE),\"\")","v":""},""]
[null,null,{"$f":"IFERROR(VLOOKUP(A25,'Services-Produits'!$A$1:$B$2000,2,FALSE),\"\")","v":""},"",null,null,{"$f":"IFERROR(VLOOKUP(E25,'Services-Produits'!$A$1:$B$2000,2,FALSE),\"\")","v":""},""]
[null,null,{"$f":"IFERROR(VLOOKUP(A26,'Services-Produits'!$A$1:$B$2000,2,FALSE),\"\")","v":""},"",null,null,{"$f":"IFERROR(VLOOKUP(E26,'Services-Produits'!$A$1:$B$2000,2,FALSE),\"\")","v":""},""]
[null,null,{"$f":"IFERROR(VLOOKUP(A27,'Services-Produits'!$A$1:$B$2000,2,FALSE),\"\")","v":""},"","Subtotal-2 in CHF:",null,null,{"$f":"SUM(H8:H26)","v":0}]
[null,null,{"$f":"IFERROR(VLOOKUP(A28,'Services-Produits'!$A$1:$B$2000,2,FALSE),\"\")","v":""},"",null,null,{"$f":"IFERROR(VLOOKUP(E28,'Services-Produits'!$A$1:$B$149,2,FALSE),\"\")","v":""}]
[null,null,{"$f":"IFERROR(VLOOKUP(A29,'Services-Produits'!$A$1:$B$2000,2,FALSE),\"\")","v":""},"","Total in CHF",null,null,{"$f":"D41+H27","v":0}]
[null,null,{"$f":"IFERROR(VLOOKUP(A30,'Services-Produits'!$A$1:$B$2000,2,FALSE),\"\")","v":""},""]
[null,null,{"$f":"IFERROR(VLOOKUP(A31,'Services-Produits'!$A$1:$B$2000,2,FALSE),\"\")","v":""},"","Thank you very much for your trust!"]
[null,null,{"$f":"IFERROR(VLOOKUP(A32,'Services-Produits'!$A$1:$B$2000,2,FALSE),\"\")","v":""},""]
[null,null,{"$f":"IFERROR(VLOOKUP(A33,'Services-Produits'!$A$1:$B$2000,2,FALSE),\"\")","v":""},""]
[null,null,{"$f":"IFERROR(VLOOKUP(A34,'Services-Produits'!$A$1:$B$2000,2,FALSE),\"\")","v":""},""]
[null,null,{"$f":"IFERROR(VLOOKUP(A35,'Services-Produits'!$A$1:$B$2000,2,FALSE),\"\")","v":""},""]
[null,null,{"$f":"IFERROR(VLOOKUP(A36,'Services-Produits'!$A$1:$B$2000,2,FALSE),\"\")","v":""},""]
[null,null,{"$f":"IFERROR(VLOOKUP(A37,'Services-Produits'!$A$1:$B$2000,2,FALSE),\"\")","v":""},""]
[null,null,{"$f":"IFERROR(VLOOKUP(A38,'Services-Produits'!$A$1:$B$2000,2,FALSE),\"\")","v":""},""]
[null,null,{"$f":"IFERROR(VLOOKUP(A39,'Services-Produits'!$A$1:$B$2000,2,FALSE),\"\")","v":""},""]
[null,null,{"$f":"IFERROR(VLOOKUP(A40,'Services-Produits'!$A$1:$B$2000,2,FALSE),\"\")","v":""}]
["Subtotal-1 in CHF:",null,null,{"$f":"SUM(D17:D39)","v":0}]